BEGIN:VCALENDAR
VERSION:2.0
PRODID:-//Who&#039;s On The Move - ECPv6.15.15//NONSGML v1.0//EN
CALSCALE:GREGORIAN
METHOD:PUBLISH
X-WR-CALNAME:Who&#039;s On The Move
X-ORIGINAL-URL:https://whosonthemove.com
X-WR-CALDESC:Events for Who&#039;s On The Move
REFRESH-INTERVAL;VALUE=DURATION:PT1H
X-Robots-Tag:noindex
X-PUBLISHED-TTL:PT1H
BEGIN:VTIMEZONE
TZID:America/New_York
BEGIN:DAYLIGHT
TZOFFSETFROM:-0500
TZOFFSETTO:-0400
TZNAME:EDT
DTSTART:20250309T070000
END:DAYLIGHT
BEGIN:STANDARD
TZOFFSETFROM:-0400
TZOFFSETTO:-0500
TZNAME:EST
DTSTART:20251102T060000
END:STANDARD
BEGIN:DAYLIGHT
TZOFFSETFROM:-0500
TZOFFSETTO:-0400
TZNAME:EDT
DTSTART:20260308T070000
END:DAYLIGHT
BEGIN:STANDARD
TZOFFSETFROM:-0400
TZOFFSETTO:-0500
TZNAME:EST
DTSTART:20261101T060000
END:STANDARD
BEGIN:DAYLIGHT
TZOFFSETFROM:-0500
TZOFFSETTO:-0400
TZNAME:EDT
DTSTART:20270314T070000
END:DAYLIGHT
BEGIN:STANDARD
TZOFFSETFROM:-0400
TZOFFSETTO:-0500
TZNAME:EST
DTSTART:20271107T060000
END:STANDARD
END:VTIMEZONE
BEGIN:VEVENT
DTSTART;TZID=America/New_York:20260212T090000
DTEND;TZID=America/New_York:20260430T170000
DTSTAMP:20260421T061208
CREATED:20260217T182046Z
LAST-MODIFIED:20260217T182046Z
UID:477930-1770886800-1777568400@whosonthemove.com
SUMMARY:Shoe Drive
DESCRIPTION:Keep the Midlands Beautiful (KMB) is collecting new and gently used shoes February through April\, 2026. There are several outdoor public drop-off locations across Lexington and Richland Counties including the Lexington Chamber and Visitor’s Center in downtown Lexington and the KMB office in West Columbia. Help those in need while permanently keeping these shoes out of our local landfills.
URL:https://whosonthemove.com/event/shoe-drive/
CATEGORIES:Columbia, SC
ATTACH;FMTTYPE=image/jpeg:https://whosonthemove.com/wp-content/uploads/2019/04/placeholder.jpg
END:VEVENT
BEGIN:VEVENT
DTSTART;TZID=America/New_York:20260413T180000
DTEND;TZID=America/New_York:20260421T213000
DTSTAMP:20260421T061208
CREATED:20260218T234811Z
LAST-MODIFIED:20260218T234811Z
UID:478765-1776103200-1776807000@whosonthemove.com
SUMMARY:Charleston Jazz Festival
DESCRIPTION:We can’t wait to welcome you to the 2026 Charleston Jazz Festival with 9 full days of spectacular jazz experiences April 13 – 21 2026! This year’s festival brings together world-class artists and iconic Charleston venues for a true celebration of jazz in the cultural heart of our city. Join us for an unforgettable showcase of music\, creativity\, and the vibrant spirit of our arts community!
URL:https://whosonthemove.com/event/charleston-jazz-festival/
LOCATION:Venue may vary\, Charleston\, SC\, 29492
CATEGORIES:Charleston, SC
ATTACH;FMTTYPE=image/jpeg:https://whosonthemove.com/wp-content/uploads/2026/02/CHS-Mag-2026-Festival-Full-Page-Print-Ad-9.25-x-11.125-in.jpg
END:VEVENT
BEGIN:VEVENT
DTSTART;TZID=America/New_York:20260421T010000
DTEND;TZID=America/New_York:20260421T150000
DTSTAMP:20260421T061208
CREATED:20260322T195724Z
LAST-MODIFIED:20260322T195724Z
UID:482968-1776733200-1776783600@whosonthemove.com
SUMMARY:Mahjong Classes at the Georgetown Library
DESCRIPTION:Join us for a bi-weekly Mahjong Class. Players of any experience level are welcome to participate. An instructor will be present to help new players to this ancient popular tile game.
URL:https://whosonthemove.com/event/mahjong-classes-at-the-georgetown-library-2/
LOCATION:Georgetown Library Auditorium\, 405 Cleland Street\, Georgetown\, SC\, 29440
CATEGORIES:Georgetown SC Gazette
ATTACH;FMTTYPE=image/jpeg:https://whosonthemove.com/wp-content/uploads/2019/04/placeholder.jpg
END:VEVENT
BEGIN:VEVENT
DTSTART;TZID=America/New_York:20260421T100000
DTEND;TZID=America/New_York:20260421T110000
DTSTAMP:20260421T061208
CREATED:20260414T181248Z
LAST-MODIFIED:20260414T181248Z
UID:486246-1776765600-1776769200@whosonthemove.com
SUMMARY:Friends of the Georgetown Library Tuesdays with ... Christina Stewart
DESCRIPTION:Our April Tuesdays With… presentation will feature Christina Stewart\, District Archaeologist\, Francis Marion National Forest\, speaking on Sacred Landscapes of the American Archaic: Exploring the Sewee Shell Ring. \nBe sure to join us to hear her presentation regarding a fascinating archaeological site and an important part of our local history.
URL:https://whosonthemove.com/event/friends-of-the-georgetown-library-tuesdays-with-christina-stewart/
LOCATION:Georgetown Library Auditorium\, 405 Cleland Street\, Georgetown\, SC\, 29440
CATEGORIES:Georgetown SC Gazette
ATTACH;FMTTYPE=image/jpeg:https://whosonthemove.com/wp-content/uploads/2026/04/April-Tuesdays-With.-5.jpg
END:VEVENT
BEGIN:VEVENT
DTSTART;TZID=America/New_York:20260421T120000
DTEND;TZID=America/New_York:20260421T130000
DTSTAMP:20260421T061208
CREATED:20260312T165429Z
LAST-MODIFIED:20260312T165907Z
UID:481493-1776772800-1776776400@whosonthemove.com
SUMMARY:LAWYERLISA: Legacy Lunch and Learn- The Math of Long Term Care
DESCRIPTION:Presenter: Lisa Hostetler Brown\, Managing Attorney\nApril 21\, 2026\n12:00-1:00pm EST (1hr)\nVirtual Via ZOOM or In Person\nNortheast Presbyterian Church 601 Polo Road\, Columbia\, SC 29223 \nDo you have enough money for long-term care? This session dives into the real costs of nursing homes\, assisted living\, and home care\, and explains how Medicaid planning can help preserve your assets. Lunch provided for in person attendees. Register at https://lawyerlisa.com/events to attend
URL:https://whosonthemove.com/event/lawyerlisa-legacy-lunch-and-learn-the-math-of-long-term-care/
LOCATION:Northeast Presbyterian Church\, 601 Polo Road\, Columbia\, SC\, 29223
CATEGORIES:Columbia, SC
ATTACH;FMTTYPE=image/png:https://whosonthemove.com/wp-content/uploads/2026/03/April-Math.png
END:VEVENT
BEGIN:VEVENT
DTSTART;TZID=America/New_York:20260421T180000
DTEND;TZID=America/New_York:20260421T210000
DTSTAMP:20260421T061208
CREATED:20260310T145923Z
LAST-MODIFIED:20260310T145923Z
UID:480277-1776794400-1776805200@whosonthemove.com
SUMMARY:RHYTHM AND FLOW: America’s Story at 250\, Panel Discussion and Performance
DESCRIPTION:Jazz is more than music—it is a mirror of the American experience. As the United States marks its 250th anniversary\, this panel discussion explores how jazz has reflected the nation’s values\, challenged its contradictions\, and helped define its ideals of freedom\, expression\, and collective voice. \nThe conversation examines how Charleston and the broader American South helped set the rhythms and cadence of jazz\, shaping its evolution from local tradition to global art form. From sacred and social roots to improvisation and innovation\, panelists will consider the enduring values jazz has contributed to American culture. \nMaster drummer Herlin Riley and Demetrius Doctor\, Director of the Charleston Jazz Academy\, will be joined by Dr. Karen Chandler—co-founder of the Charleston Jazz Initiative\, which documents South Carolina’s profound influence on jazz in America and around the world—and Dr. Al Fraser\, co-author of To Be\, or Not . . . to Bop: Memoirs\, the 1979 autobiography of legendary trumpeter John Birks “Dizzy” Gillespie\, for this dynamic\, community-centered conversation. The panel will be moderated by Larry Blumenfeld\, Spoleto Festival USA’s Jazz Curator and a contributor to The Wall Street Journal\, and will conclude with a performance by the Herlin Riley Quartet.
URL:https://whosonthemove.com/event/rhythm-and-flow-americas-story-at-250-panel-discussion-and-performance/
LOCATION:Fox Music House\, 4248 Dorchester Rd.\, Charleston\, SC\, 29o5
CATEGORIES:Charleston, SC
ATTACH;FMTTYPE=image/jpeg:https://whosonthemove.com/wp-content/uploads/2026/03/rhythm-and-flow.jpg
END:VEVENT
END:VCALENDAR