BEGIN:VCALENDAR
VERSION:2.0
PRODID:-//Who&#039;s On The Move - ECPv6.15.15//NONSGML v1.0//EN
CALSCALE:GREGORIAN
METHOD:PUBLISH
X-WR-CALNAME:Who&#039;s On The Move
X-ORIGINAL-URL:https://whosonthemove.com
X-WR-CALDESC:Events for Who&#039;s On The Move
REFRESH-INTERVAL;VALUE=DURATION:PT1H
X-Robots-Tag:noindex
X-PUBLISHED-TTL:PT1H
BEGIN:VTIMEZONE
TZID:America/New_York
BEGIN:DAYLIGHT
TZOFFSETFROM:-0500
TZOFFSETTO:-0400
TZNAME:EDT
DTSTART:20250309T070000
END:DAYLIGHT
BEGIN:STANDARD
TZOFFSETFROM:-0400
TZOFFSETTO:-0500
TZNAME:EST
DTSTART:20251102T060000
END:STANDARD
BEGIN:DAYLIGHT
TZOFFSETFROM:-0500
TZOFFSETTO:-0400
TZNAME:EDT
DTSTART:20260308T070000
END:DAYLIGHT
BEGIN:STANDARD
TZOFFSETFROM:-0400
TZOFFSETTO:-0500
TZNAME:EST
DTSTART:20261101T060000
END:STANDARD
BEGIN:DAYLIGHT
TZOFFSETFROM:-0500
TZOFFSETTO:-0400
TZNAME:EDT
DTSTART:20270314T070000
END:DAYLIGHT
BEGIN:STANDARD
TZOFFSETFROM:-0400
TZOFFSETTO:-0500
TZNAME:EST
DTSTART:20271107T060000
END:STANDARD
END:VTIMEZONE
BEGIN:VEVENT
DTSTART;TZID=America/New_York:20260101T190000
DTEND;TZID=America/New_York:20260101T210000
DTSTAMP:20260424T114006
CREATED:20251229T051404Z
LAST-MODIFIED:20251229T051404Z
UID:472542-1767294000-1767301200@whosonthemove.com
SUMMARY:Rewind 2025: Trivia
DESCRIPTION:Join us at The Lumberyard for a fun look back at the year! Our 2025 Year in Review Trivia Night will test your memory on the biggest moments of the year — from headlines to pop culture to the random stuff that made us all laugh. Grab a drink\, settle in\, and see how your team stacks up. Signup starts at 6:30\, first round at 7:00  Prizes for 1st and 2nd.\nFREE
URL:https://whosonthemove.com/event/rewind-2025-trivia/
LOCATION:The Lumberyard\, 115 Gary Street\, Clinton\, SC\, 29325
CATEGORIES:Laurens County BUZZ
ATTACH;FMTTYPE=image/jpeg:https://whosonthemove.com/wp-content/uploads/2025/12/lumberyardlogo-11.jpg
END:VEVENT
BEGIN:VEVENT
DTSTART;TZID=America/New_York:20260102T183000
DTEND;TZID=America/New_York:20260102T210000
DTSTAMP:20260424T114006
CREATED:20251229T051507Z
LAST-MODIFIED:20251229T051507Z
UID:472545-1767378600-1767387600@whosonthemove.com
SUMMARY:Live Music: Charlie Michaels
DESCRIPTION:Live Music: Charlie Michaels
URL:https://whosonthemove.com/event/live-music-charlie-michaels/
LOCATION:The Lumberyard\, 115 Gary Street\, Clinton\, SC\, 29325
CATEGORIES:Laurens County BUZZ
ATTACH;FMTTYPE=image/jpeg:https://whosonthemove.com/wp-content/uploads/2025/12/lumberyardlogo-12.jpg
END:VEVENT
BEGIN:VEVENT
DTSTART;TZID=America/New_York:20260105T090000
DTEND;TZID=America/New_York:20260105T180000
DTSTAMP:20260424T114006
CREATED:20260104T191949Z
LAST-MODIFIED:20260104T191949Z
UID:472768-1767603600-1767636000@whosonthemove.com
SUMMARY:Braille Badges
DESCRIPTION:Celebrate World Braille Day by stopping by to create your own hame tag using beads!
URL:https://whosonthemove.com/event/braille-badges/
LOCATION:Laurens County Library\, 107 Jacobs Hwy # A\, Clinton\, SC\, 29325
CATEGORIES:Laurens County BUZZ
ATTACH;FMTTYPE=image/jpeg:https://whosonthemove.com/wp-content/uploads/2026/01/608530767_1309842724510365_8402925504491617234_n.jpg
END:VEVENT
BEGIN:VEVENT
DTSTART;TZID=America/New_York:20260106T110000
DTEND;TZID=America/New_York:20260106T120000
DTSTAMP:20260424T114006
CREATED:20260104T192839Z
LAST-MODIFIED:20260104T192839Z
UID:472774-1767697200-1767700800@whosonthemove.com
SUMMARY:Homeschooling Hangout
DESCRIPTION:Are you new to homeschooling\, or wanting to meet other families in the area who homeschool? Join us for our Homeschool Hangout – parents can mingle and chat while the kids craft and play! Learn about the free resources that the library already offers.\nFor ages 4-10 and their families.
URL:https://whosonthemove.com/event/homeschooling-hangout/
LOCATION:Laurens County Library\, 107 Jacobs Hwy # A\, Clinton\, SC\, 29325
CATEGORIES:Laurens County BUZZ
ATTACH;FMTTYPE=image/jpeg:https://whosonthemove.com/wp-content/uploads/2026/01/607439393_1309190491._imresizer.jpg
END:VEVENT
BEGIN:VEVENT
DTSTART;TZID=America/New_York:20260107T100000
DTEND;TZID=America/New_York:20260107T120000
DTSTAMP:20260424T114006
CREATED:20260104T191221Z
LAST-MODIFIED:20260104T191221Z
UID:472762-1767780000-1767787200@whosonthemove.com
SUMMARY:Art Group & Workshop
DESCRIPTION:COME AND LEARN WITH JIM BRINSON\nEVERY WEDNESDAY – 10 AM TO 12 PM\nCALL JIM BRINSON TO REGISTER\n864-923-5216\n$7 DONATION PER CLASS
URL:https://whosonthemove.com/event/art-group-workshop/
LOCATION:Laurens County Museum – Witherspoon Building\, 116 South Public Square\, Laurens\, SC\, 29360
CATEGORIES:Laurens County BUZZ
ATTACH;FMTTYPE=image/jpeg:https://whosonthemove.com/wp-content/uploads/2026/01/607281787_1446308707494268_2769652535592077120_n.jpg
END:VEVENT
BEGIN:VEVENT
DTSTART;TZID=America/New_York:20260107T110000
DTEND;TZID=America/New_York:20260107T121500
DTSTAMP:20260424T114006
CREATED:20260104T192332Z
LAST-MODIFIED:20260104T192332Z
UID:472771-1767783600-1767788100@whosonthemove.com
SUMMARY:Clinton Creates
DESCRIPTION:Stop by and create your own handmade\, saddle-stitch notebook. Materials provided.
URL:https://whosonthemove.com/event/clinton-creates/
LOCATION:Laurens County Library\, 107 Jacobs Hwy # A\, Clinton\, SC\, 29325
CATEGORIES:Laurens County BUZZ
ATTACH;FMTTYPE=image/jpeg:https://whosonthemove.com/wp-content/uploads/2026/01/603754295_1309226147._imresizer.jpg
END:VEVENT
BEGIN:VEVENT
DTSTART;TZID=America/New_York:20260107T160000
DTEND;TZID=America/New_York:20260107T190000
DTSTAMP:20260424T114006
CREATED:20251229T052854Z
LAST-MODIFIED:20251229T052854Z
UID:472552-1767801600-1767812400@whosonthemove.com
SUMMARY:Hump Day Happy Day
DESCRIPTION:Saddle up and ride through the week with our Hump Day Happy Day! 🎉 Enjoy a midweek treat with $1 off all draft beers and select wines\, as we help you conquer that Wednesday slump in style!
URL:https://whosonthemove.com/event/hump-day-happy-day-94/
LOCATION:The Lumberyard\, 115 Gary Street\, Clinton\, SC\, 29325
CATEGORIES:Laurens County BUZZ
ATTACH;FMTTYPE=image/jpeg:https://whosonthemove.com/wp-content/uploads/2025/12/lumberyardlogo-13.jpg
END:VEVENT
BEGIN:VEVENT
DTSTART;TZID=America/New_York:20260107T160000
DTEND;TZID=America/New_York:20260107T190000
DTSTAMP:20260424T114006
CREATED:20251229T053043Z
LAST-MODIFIED:20251229T053043Z
UID:472557-1767801600-1767812400@whosonthemove.com
SUMMARY:Craft and Draft
DESCRIPTION:Welcome to Craft & Draft\, a relaxed Wednesday evening gathering at The Lumberyard where creativity and community come together. Bring your yarn\, string\, needles\, hooks\, or any project you’ve got in progress. Whether you’re into knitting\, crochet\, needlepoint\, or just love the idea of crafting with friends over a pint\, this is your midweek unwind spot.There’s no agenda — just great company\, good beer\, and a space to create\, share tips\, and enjoy the art of making by hand. All skill levels welcome!
URL:https://whosonthemove.com/event/craft-and-draft-3/
LOCATION:The Lumberyard\, 115 Gary Street\, Clinton\, SC\, 29325
CATEGORIES:Laurens County BUZZ
ATTACH;FMTTYPE=image/jpeg:https://whosonthemove.com/wp-content/uploads/2025/12/lumberyardlogo-14.jpg
END:VEVENT
BEGIN:VEVENT
DTSTART;TZID=America/New_York:20260108T110000
DTEND;TZID=America/New_York:20260108T120000
DTSTAMP:20260424T114006
CREATED:20251214T191036Z
LAST-MODIFIED:20251214T191036Z
UID:471629-1767870000-1767873600@whosonthemove.com
SUMMARY:Ribbon Cutting for CFD New Fuller Fire Substation
DESCRIPTION:Join us for the grand opening ribbon cutting of the Clinton Fire Department’s newly renovated Fuller Fire Substation. The event will be held on Thursday\, Janurary 8th at 11:00 AM at 156 Springdale Drive\, Clinton.
URL:https://whosonthemove.com/event/ribbon-cutting-for-cfd-new-fuller-fire-substation/
LOCATION:Fuller Fire Substation\, 156 Springdale Dr\, Clinton\, SC\, 29335
CATEGORIES:Laurens County BUZZ
ATTACH;FMTTYPE=image/jpeg:https://whosonthemove.com/wp-content/uploads/2025/12/597226350_1308468187989505_2189412293159181030_n.jpg
END:VEVENT
BEGIN:VEVENT
DTSTART;TZID=America/New_York:20260108T160000
DTEND;TZID=America/New_York:20260108T170000
DTSTAMP:20260424T114006
CREATED:20260104T193239Z
LAST-MODIFIED:20260104T193239Z
UID:472777-1767888000-1767891600@whosonthemove.com
SUMMARY:Kawaii Cuisine
DESCRIPTION:Welcome back! We’re starting the anime that our group picked out last semester and trying out homemade ramen!\n(Allergy warning: ramen will contain soy and sesame)
URL:https://whosonthemove.com/event/kawaii-cuisine-2/
LOCATION:Laurens County Library\, 107 Jacobs Hwy # A\, Clinton\, SC\, 29325
CATEGORIES:Laurens County BUZZ
ATTACH;FMTTYPE=image/jpeg:https://whosonthemove.com/wp-content/uploads/2026/01/605503135_1309227277._imresizer.jpg
END:VEVENT
BEGIN:VEVENT
DTSTART;TZID=America/New_York:20260108T170000
DTEND;TZID=America/New_York:20260108T190000
DTSTAMP:20260424T114006
CREATED:20260104T193710Z
LAST-MODIFIED:20260104T193710Z
UID:472783-1767891600-1767898800@whosonthemove.com
SUMMARY:K- Pop Demon Hunters Party!
DESCRIPTION:We’re goin’ up\, up\, up-it’s our celebration of all things K-Pop Demon Hunters. Enjoy the movie-inspired crafts\, songs\, snacks\, and a golden time filled with fandom vibes.
URL:https://whosonthemove.com/event/k-pop-demon-hunters-party/
LOCATION:Laurens County Library\, 107 Jacobs Hwy # A\, Clinton\, SC\, 29325
CATEGORIES:Laurens County BUZZ
ATTACH;FMTTYPE=image/jpeg:https://whosonthemove.com/wp-content/uploads/2026/01/605755620_1309228477._imresizer.jpg
END:VEVENT
BEGIN:VEVENT
DTSTART;TZID=America/New_York:20260109T183000
DTEND;TZID=America/New_York:20260109T213000
DTSTAMP:20260424T114006
CREATED:20251229T053248Z
LAST-MODIFIED:20251229T053248Z
UID:472562-1767983400-1767994200@whosonthemove.com
SUMMARY:Live Music: Caston @ The Lumberyard
DESCRIPTION:Live Music: Caston @ The Lumberyard!
URL:https://whosonthemove.com/event/live-music-caston-the-lumberyard/
LOCATION:The Lumberyard\, 115 Gary Street\, Clinton\, SC\, 29325
CATEGORIES:Laurens County BUZZ
ATTACH;FMTTYPE=image/jpeg:https://whosonthemove.com/wp-content/uploads/2025/12/lumberyardlogo-15.jpg
END:VEVENT
BEGIN:VEVENT
DTSTART;TZID=America/New_York:20260110T103000
DTEND;TZID=America/New_York:20260110T120000
DTSTAMP:20260424T114006
CREATED:20260104T193920Z
LAST-MODIFIED:20260104T193920Z
UID:472786-1768041000-1768046400@whosonthemove.com
SUMMARY:Book Launch & Author Signing!
DESCRIPTION:DUAL CALLING: PULPIT AND POLITICS\nBY SHIRLEY H. CLARK\n“This is the story of stepping into divine purpose despite opposition. This book is a testimony of endurance\, leadership and the power of trusting God’s plan when the world says you don’t belong.”  -Shirley H. Clark\nauthor
URL:https://whosonthemove.com/event/book-launch-author-signing/
LOCATION:Laurens County Library\, 107 Jacobs Hwy # A\, Clinton\, SC\, 29325
CATEGORIES:Laurens County BUZZ
ATTACH;FMTTYPE=image/jpeg:https://whosonthemove.com/wp-content/uploads/2026/01/602896794_1312190127._imresizer.jpg
END:VEVENT
BEGIN:VEVENT
DTSTART;TZID=America/New_York:20260110T190000
DTEND;TZID=America/New_York:20260110T220000
DTSTAMP:20260424T114006
CREATED:20251229T053412Z
LAST-MODIFIED:20251229T053412Z
UID:472565-1768071600-1768082400@whosonthemove.com
SUMMARY:SIP & SING KARAOKE @ THE LUMBERYARD!
DESCRIPTION:SIP & SING KARAOKE @ THE LUMBERYARD!
URL:https://whosonthemove.com/event/sip-sing-karaoke-the-lumberyard-3/
LOCATION:The Lumberyard\, 115 Gary Street\, Clinton\, SC\, 29325
CATEGORIES:Laurens County BUZZ
ATTACH;FMTTYPE=image/jpeg:https://whosonthemove.com/wp-content/uploads/2025/12/lumberyardlogo-16.jpg
END:VEVENT
BEGIN:VEVENT
DTSTART;TZID=America/New_York:20260114T160000
DTEND;TZID=America/New_York:20260114T190000
DTSTAMP:20260424T114006
CREATED:20260112T054826Z
LAST-MODIFIED:20260112T054826Z
UID:473599-1768406400-1768417200@whosonthemove.com
SUMMARY:Hump Day Happy Day
DESCRIPTION:Saddle up and ride through the week with our Hump Day Happy Day! 🎉 Enjoy a midweek treat with $1 off all draft beers and select wines\, as we help you conquer that Wednesday slump in style!
URL:https://whosonthemove.com/event/hump-day-happy-day-95/
LOCATION:The Lumberyard\, 115 Gary Street\, Clinton\, SC\, 29325
CATEGORIES:Laurens County BUZZ
ATTACH;FMTTYPE=image/jpeg:https://whosonthemove.com/wp-content/uploads/2026/01/lumberyardlogo-2.jpg
END:VEVENT
BEGIN:VEVENT
DTSTART;TZID=America/New_York:20260114T160000
DTEND;TZID=America/New_York:20260114T190000
DTSTAMP:20260424T114006
CREATED:20260112T055021Z
LAST-MODIFIED:20260112T055021Z
UID:473602-1768406400-1768417200@whosonthemove.com
SUMMARY:Craft and Draft
DESCRIPTION:Welcome to Craft & Draft\, a relaxed Wednesday evening gathering at The Lumberyard where creativity and community come together. Bring your yarn\, string\, needles\, hooks\, or any project you’ve got in progress. Whether you’re into knitting\, crochet\, needlepoint\, or just love the idea of crafting with friends over a pint\, this is your midweek unwind spot.There’s no agenda — just great company\, good beer\, and a space to create\, share tips\, and enjoy the art of making by hand. All skill levels welcome!
URL:https://whosonthemove.com/event/craft-and-draft-4/
LOCATION:The Lumberyard\, 115 Gary Street\, Clinton\, SC\, 29325
CATEGORIES:Laurens County BUZZ
ATTACH;FMTTYPE=image/jpeg:https://whosonthemove.com/wp-content/uploads/2026/01/lumberyardlogo-3.jpg
END:VEVENT
BEGIN:VEVENT
DTSTART;TZID=America/New_York:20260115T160000
DTEND;TZID=America/New_York:20260115T170000
DTSTAMP:20260424T114006
CREATED:20260104T193454Z
LAST-MODIFIED:20260104T193454Z
UID:472780-1768492800-1768496400@whosonthemove.com
SUMMARY:Clear the closet art day!
DESCRIPTION:Feeling creative? Help us use up our leftover art supplies! In this hour-long crafting program\, you can make whatever you want with the supplies we’ve put out!
URL:https://whosonthemove.com/event/clear-the-closet-art-day-2/
LOCATION:Laurens County Library\, 107 Jacobs Hwy # A\, Clinton\, SC\, 29325
CATEGORIES:Laurens County BUZZ
ATTACH;FMTTYPE=image/jpeg:https://whosonthemove.com/wp-content/uploads/2026/01/607428704_1309863654._imresizer.jpg
END:VEVENT
BEGIN:VEVENT
DTSTART;TZID=America/New_York:20260115T190000
DTEND;TZID=America/New_York:20260115T210000
DTSTAMP:20260424T114006
CREATED:20260112T055223Z
LAST-MODIFIED:20260112T055223Z
UID:473605-1768503600-1768510800@whosonthemove.com
SUMMARY:"Think and Drink" Trivia
DESCRIPTION:Grab a pint\, gather your crew\, and put your brain to the test! Join us for a night of general knowledge questions and a little friendly competition. The more you think\, the better the drink tastes!
URL:https://whosonthemove.com/event/think-and-drink-trivia-13/
LOCATION:The Lumberyard\, 115 Gary Street\, Clinton\, SC\, 29325
CATEGORIES:Laurens County BUZZ
ATTACH;FMTTYPE=image/jpeg:https://whosonthemove.com/wp-content/uploads/2026/01/lumberyardlogo-4.jpg
END:VEVENT
BEGIN:VEVENT
DTSTART;TZID=America/New_York:20260116T190000
DTEND;TZID=America/New_York:20260116T220000
DTSTAMP:20260424T114006
CREATED:20260112T055329Z
LAST-MODIFIED:20260112T055405Z
UID:473608-1768590000-1768600800@whosonthemove.com
SUMMARY:Live Music: Andrew Wooten @ The Lumberyard!
DESCRIPTION:Live Music: Andrew Wooten
URL:https://whosonthemove.com/event/live-music-andrew-wooten-3/
LOCATION:The Lumberyard\, 115 Gary Street\, Clinton\, SC\, 29325
CATEGORIES:Laurens County BUZZ
ATTACH;FMTTYPE=image/jpeg:https://whosonthemove.com/wp-content/uploads/2026/01/lumberyardlogo-5.jpg
END:VEVENT
BEGIN:VEVENT
DTSTART;TZID=America/New_York:20260117T190000
DTEND;TZID=America/New_York:20260117T220000
DTSTAMP:20260424T114006
CREATED:20260112T055541Z
LAST-MODIFIED:20260112T055557Z
UID:473612-1768676400-1768687200@whosonthemove.com
SUMMARY:SIP & SING KARAOKE @ THE LUMBERYARD!
DESCRIPTION:Sip & Sing Karaoke @ The Lumberyard!
URL:https://whosonthemove.com/event/sip-sing-karaoke-the-lumberyard-4/
LOCATION:The Lumberyard\, 115 Gary Street\, Clinton\, SC\, 29325
CATEGORIES:Laurens County BUZZ
ATTACH;FMTTYPE=image/jpeg:https://whosonthemove.com/wp-content/uploads/2026/01/lumberyardlogo-6.jpg
END:VEVENT
BEGIN:VEVENT
DTSTART;TZID=America/New_York:20260121T083000
DTEND;TZID=America/New_York:20260121T135600
DTSTAMP:20260424T114006
CREATED:20251214T185652Z
LAST-MODIFIED:20251217T170211Z
UID:471625-1768984200-1769003760@whosonthemove.com
SUMMARY:The Brew Laurens County
DESCRIPTION:Calling all entrepreneurs… join us on January 21\, 2026\, to hear from KW Designs business owner\, Kyle Woudstra. KW Designs is a full-service architectural firm for both commercial and residential projects.
URL:https://whosonthemove.com/event/the-brew-laurens-county-14/
LOCATION:KW Designs\, LLC\, 831 W Main St.\, Laurens\, SC\, United States\, South Carolina\, Laurens\, SC\, 29360
CATEGORIES:Laurens County BUZZ
ATTACH;FMTTYPE=image/jpeg:https://whosonthemove.com/wp-content/uploads/2025/12/597606864_1308514127984911_1104369857341431456_n.jpg
END:VEVENT
BEGIN:VEVENT
DTSTART;TZID=America/New_York:20260121T160000
DTEND;TZID=America/New_York:20260121T190000
DTSTAMP:20260424T114006
CREATED:20260119T071635Z
LAST-MODIFIED:20260119T071635Z
UID:474513-1769011200-1769022000@whosonthemove.com
SUMMARY:Hump Day Happy Day
DESCRIPTION:Saddle up and ride through the week with our Hump Day Happy Day! 🎉 Enjoy a midweek treat with $1 off all draft beers and select wines\, as we help you conquer that Wednesday slump in style!
URL:https://whosonthemove.com/event/hump-day-happy-day-96/
LOCATION:The Lumberyard\, 115 Gary Street\, Clinton\, SC\, 29325
CATEGORIES:Laurens County BUZZ
ATTACH;FMTTYPE=image/jpeg:https://whosonthemove.com/wp-content/uploads/2026/01/lumberyardlogo-7.jpg
END:VEVENT
BEGIN:VEVENT
DTSTART;TZID=America/New_York:20260121T160000
DTEND;TZID=America/New_York:20260121T190000
DTSTAMP:20260424T114006
CREATED:20260119T071748Z
LAST-MODIFIED:20260119T071748Z
UID:474516-1769011200-1769022000@whosonthemove.com
SUMMARY:Craft and Draft
DESCRIPTION:Welcome to Craft & Draft\, a relaxed Wednesday evening gathering at The Lumberyard where creativity and community come together. Bring your yarn\, string\, needles\, hooks\, or any project you’ve got in progress. Whether you’re into knitting\, crochet\, needlepoint\, or just love the idea of crafting with friends over a pint\, this is your midweek unwind spot.There’s no agenda — just great company\, good beer\, and a space to create\, share tips\, and enjoy the art of making by hand. All skill levels welcome!
URL:https://whosonthemove.com/event/craft-and-draft-5/
LOCATION:The Lumberyard\, 115 Gary Street\, Clinton\, SC\, 29325
CATEGORIES:Laurens County BUZZ
ATTACH;FMTTYPE=image/jpeg:https://whosonthemove.com/wp-content/uploads/2026/01/lumberyardlogo-8.jpg
END:VEVENT
BEGIN:VEVENT
DTSTART;TZID=America/New_York:20260122T173000
DTEND;TZID=America/New_York:20260122T210000
DTSTAMP:20260424T114006
CREATED:20260119T072008Z
LAST-MODIFIED:20260119T072008Z
UID:474519-1769103000-1769115600@whosonthemove.com
SUMMARY:"Think and Drink" Trivia & Food @ The Lumberyard!
DESCRIPTION:Grab a pint\, gather your crew\, and put your brain to the test! Join us for a night of general knowledge questions and a little friendly competition. The more you think\, the better the drink tastes! \nFood Truck: Mrs V Southern Kitchen\n5:30 PM-9:00 PM
URL:https://whosonthemove.com/event/think-and-drink-trivia-food-the-lumberyard/
LOCATION:The Lumberyard\, 115 Gary Street\, Clinton\, SC\, 29325
CATEGORIES:Laurens County BUZZ
ATTACH;FMTTYPE=image/jpeg:https://whosonthemove.com/wp-content/uploads/2026/01/lumberyardlogo-9.jpg
END:VEVENT
BEGIN:VEVENT
DTSTART;TZID=America/New_York:20260123T173000
DTEND;TZID=America/New_York:20260123T220000
DTSTAMP:20260424T114006
CREATED:20260119T072336Z
LAST-MODIFIED:20260119T072336Z
UID:474522-1769189400-1769205600@whosonthemove.com
SUMMARY:Live Music & Food @ The Lumberyard!
DESCRIPTION:Food Truck: Mrs V Southern Kitchen\n5:30 PM-10:00 PM \nLive Music: Second Nature\n6:00 PM-9:00 PM
URL:https://whosonthemove.com/event/live-music-food-the-lumberyard-19/
LOCATION:The Lumberyard\, 115 Gary Street\, Clinton\, SC\, 29325
CATEGORIES:Laurens County BUZZ
ATTACH;FMTTYPE=image/jpeg:https://whosonthemove.com/wp-content/uploads/2026/01/lumberyardlogo-10.jpg
END:VEVENT
BEGIN:VEVENT
DTSTART;TZID=America/New_York:20260123T190000
DTEND;TZID=America/New_York:20260123T203000
DTSTAMP:20260424T114006
CREATED:20260119T162438Z
LAST-MODIFIED:20260119T162438Z
UID:474575-1769194800-1769200200@whosonthemove.com
SUMMARY:Classical Cello and Piano Recital
DESCRIPTION:Classical music enthusiasts are invited to attend a free cello and piano recital featuring Richard Thomas and Andrew Sheffield on Friday\, January 23\, at 7:00 p.m. at Cornerstone Baptist Church in Clinton. \nThe program will showcase a thoughtfully curated selection of chamber works highlighting both well-known and rarely performed composers. The evening will include duos by Hélène Liebmann\, recognized as one of the earliest women composers to write chamber music\, alongside works by Brazilian composer Heitor Villa-Lobos and a rare instrumental piece by Italian opera composer Francesco Cilèa. \nRichard Thomas serves as Principal Cellist of the Anderson Symphony and teaches cello at the South Carolina School of the Arts at Anderson University\, Lander University\, and North Greenville University. His performance career and academic work have made him a familiar presence in classical music circles across the Upstate. \nJoining him is pianist Andrew Sheffield\, who teaches piano privately and serves as the accompanist for the Laurens County Choral as well as the pianist for Cornerstone Baptist Church in Clinton. Sheffield is known locally for his versatility and longstanding contributions to community music programs. \nThe recital is free and open to the public\, offering an opportunity for the community to experience an evening of classical chamber music in an intimate setting.
URL:https://whosonthemove.com/event/classical-cello-and-piano-recital/
LOCATION:Cornerstone Baptist Church\, 1797 SC-72\, Clinton\, SC\, 29325
CATEGORIES:Laurens County BUZZ
ATTACH;FMTTYPE=image/jpeg:https://whosonthemove.com/wp-content/uploads/2026/01/Cornerstone-PCposter-1-600x450-1.jpg
END:VEVENT
BEGIN:VEVENT
DTSTART;TZID=America/New_York:20260124T173000
DTEND;TZID=America/New_York:20260124T173000
DTSTAMP:20260424T114006
CREATED:20260119T072525Z
LAST-MODIFIED:20260119T072525Z
UID:474525-1769275800-1769275800@whosonthemove.com
SUMMARY:Boot Scootin' Line Dancing & Live Music @ The Lumberyard!
DESCRIPTION:Food Truck: Mrs V Southern Kitchen\n5:30 PM-10:00 PM \nBoot Scootin’ Line Dancing\n7:00 PM-10:00 PM
URL:https://whosonthemove.com/event/boot-scootin-line-dancing-live-music-the-lumberyard/
LOCATION:The Lumberyard\, 115 Gary Street\, Clinton\, SC\, 29325
CATEGORIES:Laurens County BUZZ
ATTACH;FMTTYPE=image/jpeg:https://whosonthemove.com/wp-content/uploads/2026/01/lumberyardlogo-11.jpg
END:VEVENT
BEGIN:VEVENT
DTSTART;TZID=America/New_York:20260127T113000
DTEND;TZID=America/New_York:20260127T133000
DTSTAMP:20260424T114006
CREATED:20260107T174832Z
LAST-MODIFIED:20260107T174931Z
UID:472661-1769513400-1769520600@whosonthemove.com
SUMMARY:HR Connect Luncheon
DESCRIPTION:The Laurens County Chamber of Commerce\, together with our HR Connect volunteer committee\, hosts quarterly HR Connect luncheons for local HR and Operations professionals. These gatherings offer a welcoming space to connect\, share ideas\, and support one another in the important work of leading teams and workplaces. \nOur upcoming luncheon will feature Lee Anne Kitchen (Roper Staffing Agency) and Lisa Wyn (Schooley Mitchell)\, who will share helpful insight on Time Management & Stress Relief\, Financial Wellness\, and Employee Benefits & Performance. \nThis event is free to attend\, but seating is limited and registration is required. \nDate: January 27\, 2026\nTime: 11:30 AM – 1:30 PM\nLocation: Laurens County Chamber of Commerce\n291 Professional Park Road\, Clinton\, SC\nEvent Sponsor: Schooley Mitchell \nEveryone working in HR\, operations\, management\, or people-focused roles is welcome!
URL:https://whosonthemove.com/event/hr-connect-luncheon/
LOCATION:AL
CATEGORIES:Laurens County BUZZ
ATTACH;FMTTYPE=image/png:https://whosonthemove.com/wp-content/uploads/2025/12/HR-Connect-Flyer-9.23.25.png
END:VEVENT
BEGIN:VEVENT
DTSTART;TZID=America/New_York:20260128T140000
DTEND;TZID=America/New_York:20260128T150000
DTSTAMP:20260424T114006
CREATED:20260124T113559Z
LAST-MODIFIED:20260124T113559Z
UID:474620-1769608800-1769612400@whosonthemove.com
SUMMARY:Scam Awareness Workshop with Laurens Police Chief Heath Copeland
DESCRIPTION:Learn how to identify Scams to protect yourself and your loved ones. Presented by Heath Copeland\, Chief of Police\, City of Laurens\, SC at Martha Franks Retirement Community. \nYou will have a chance to win a Free In-home Technology Security Assessment – A $200 value! Register by visiting marthafranks.com or by calling 864-681-8266. \nFollow the EVENT signs on campus to Rasor Chapel.
URL:https://whosonthemove.com/event/scam-awareness-workshop-with-laurens-police-chief-heath-copeland/
LOCATION:Martha Franks Retirement Community – Rasor Chapel\, 1 Martha Franks Drive\, Laurens\, SC\, 29360
CATEGORIES:Laurens County BUZZ
ATTACH;FMTTYPE=image/jpeg:https://whosonthemove.com/wp-content/uploads/2026/01/scams_web-graphic800x600-1.jpg
END:VEVENT
BEGIN:VEVENT
DTSTART;TZID=America/New_York:20260129T150000
DTEND;TZID=America/New_York:20260129T160000
DTSTAMP:20260424T114006
CREATED:20260126T004146Z
LAST-MODIFIED:20260126T004146Z
UID:475351-1769698800-1769702400@whosonthemove.com
SUMMARY:Laurens Book Club
DESCRIPTION:Before We Were Yours by Lisa Wingate . For ages 18+
URL:https://whosonthemove.com/event/laurens-book-club/
LOCATION:Laurens County Library\, 107 Jacobs Hwy # A\, Clinton\, SC\, 29325
CATEGORIES:Laurens County BUZZ
ATTACH;FMTTYPE=image/jpeg:https://whosonthemove.com/wp-content/uploads/2026/01/615355552_1319625630198741_8607253366413553045_n.jpg
END:VEVENT
END:VCALENDAR