BEGIN:VCALENDAR
VERSION:2.0
PRODID:-//Who&#039;s On The Move - ECPv6.15.15//NONSGML v1.0//EN
CALSCALE:GREGORIAN
METHOD:PUBLISH
X-WR-CALNAME:Who&#039;s On The Move
X-ORIGINAL-URL:https://whosonthemove.com
X-WR-CALDESC:Events for Who&#039;s On The Move
REFRESH-INTERVAL;VALUE=DURATION:PT1H
X-Robots-Tag:noindex
X-PUBLISHED-TTL:PT1H
BEGIN:VTIMEZONE
TZID:America/New_York
BEGIN:DAYLIGHT
TZOFFSETFROM:-0500
TZOFFSETTO:-0400
TZNAME:EDT
DTSTART:20250309T070000
END:DAYLIGHT
BEGIN:STANDARD
TZOFFSETFROM:-0400
TZOFFSETTO:-0500
TZNAME:EST
DTSTART:20251102T060000
END:STANDARD
BEGIN:DAYLIGHT
TZOFFSETFROM:-0500
TZOFFSETTO:-0400
TZNAME:EDT
DTSTART:20260308T070000
END:DAYLIGHT
BEGIN:STANDARD
TZOFFSETFROM:-0400
TZOFFSETTO:-0500
TZNAME:EST
DTSTART:20261101T060000
END:STANDARD
BEGIN:DAYLIGHT
TZOFFSETFROM:-0500
TZOFFSETTO:-0400
TZNAME:EDT
DTSTART:20270314T070000
END:DAYLIGHT
BEGIN:STANDARD
TZOFFSETFROM:-0400
TZOFFSETTO:-0500
TZNAME:EST
DTSTART:20271107T060000
END:STANDARD
END:VTIMEZONE
BEGIN:VEVENT
DTSTART;TZID=America/New_York:20260419T110000
DTEND;TZID=America/New_York:20260419T133000
DTSTAMP:20260419T094055
CREATED:20260413T233654Z
LAST-MODIFIED:20260413T233654Z
UID:486027-1776596400-1776605400@whosonthemove.com
SUMMARY:Presbyterian College Community Brunch!
DESCRIPTION:Join us for a time of fellowship\, food\, and community at the Presbyterian College Community Brunch! Bring your family and friends to enjoy a delicious meal and connect with the PC community. All are welcome! 💙 \n🗓️ Sunday\, April 19\n⏰ 11:00 AM – 1:30 PM\n📍 Greenville Dining Hall \n💵 Adults: $10.55\n👧 Children (8 & under): $7.00\n👶 Children under 3: Free \nWe can’t wait to see you there!
URL:https://whosonthemove.com/event/presbyterian-college-community-brunch/
LOCATION:Presbyterian College\, 503 S Broad St\, Clinton\, SC\, 29325
CATEGORIES:Laurens County BUZZ
ATTACH;FMTTYPE=image/jpeg:https://whosonthemove.com/wp-content/uploads/2026/04/668995176_1382916927198671_4326417612788736187_n.jpg
END:VEVENT
BEGIN:VEVENT
DTSTART;TZID=America/New_York:20260423T080000
DTEND;TZID=America/New_York:20260423T120000
DTSTAMP:20260419T094055
CREATED:20260323T183550Z
LAST-MODIFIED:20260323T183550Z
UID:483101-1776931200-1776945600@whosonthemove.com
SUMMARY:Earth Day Community Clean-Up
DESCRIPTION:The City of Laurens is calling on residents to take advantage of the beautiful spring weather while making a positive impact on the community. \nCity employees\, along with the Laurens Police Department and local community partners\, will host an Earth Day Community Clean-Up on Thursday\, April 23\, at Little River Park. The effort is part of ongoing revitalization work at one of Laurens’ valued outdoor spaces. \nVolunteers are invited to roll up their sleeves and help enhance the park while celebrating Earth Day through service and stewardship. \nEvent details include:\nThursday\, April 23\n8:00 AM – 12:00 PM\nLittle River Park\, 317 E. Main Street\, Laurens \nCommunity members of all ages are encouraged to participate and play a role in keeping Laurens clean\, welcoming\, and vibrant. Whether contributing a few hours or staying for the entire event\, every helping hand makes a difference. \nThose interested in participating can sign up by emailing facebook@cityoflaurenssc.com.
URL:https://whosonthemove.com/event/earth-day-community-clean-up/
LOCATION:Little River Park\, 317 E. Main Street\, Laurens\, SC\, 29360
CATEGORIES:Laurens County BUZZ
ATTACH;FMTTYPE=image/jpeg:https://whosonthemove.com/wp-content/uploads/2026/03/Earth-day-city-of-Laurens-600x503-1.jpg
END:VEVENT
BEGIN:VEVENT
DTSTART;TZID=America/New_York:20260423T160000
DTEND;TZID=America/New_York:20260423T190000
DTSTAMP:20260419T094055
CREATED:20260124T113733Z
LAST-MODIFIED:20260124T113733Z
UID:474969-1776960000-1776970800@whosonthemove.com
SUMMARY:Laurens County First Steps to Host Celebrate Safe Children Community Event
DESCRIPTION:✨ Join Us for Celebrate Safe Children! ✨ \nLaurens County First Steps invites children and families to join us on Thursday\, April 23\, at The Ridge of Laurens for the annual Child Abuse Prevention / Celebrate Safe Children event from 4:00 PM – 7:00 PM. \nThis fun and educational community event brings families together to raise awareness about child abuse prevention and celebrate safe\, healthy\, and happy children. 💙 \nFamilies can look forward to:\n✔ Food vendors\n✔ Games & activities\n✔ Valuable resources for parents & caregivers\n✔ Local children’s performances\n✔ Engaging speakers\n✔ An interactive Imagination Playground from The Children’s Museum of the Upstate \nFor a complete list of participating organizations\, visit the Laurens County First Steps Facebook page. \nLaurens County First Steps proudly joins organizations across South Carolina as a Child Abuse Prevention Month partner and grant recipient through the Children’s Trust of South Carolina. Held every April\, this awareness campaign encourages communities statewide to foster positive childhood experiences and build a foundation for lifelong well-being. \nWe can’t wait to see our community come together for this important celebration! 💙 \n#CelebrateSafeChildren #ChildAbusePreventionMonth #LaurensSC #LaurensCountyFirstSteps #ThrivingFamilies #HealthyCommunities #TogetherWeCan #PinwheelsForPrevention
URL:https://whosonthemove.com/event/laurens-county-first-steps-to-host-celebrate-safe-children-community-event/
LOCATION:The Ridge at Laurens\, 301 Exchange Rd\, Laurens\, SC\, 29360
CATEGORIES:Laurens County BUZZ
ATTACH;FMTTYPE=image/jpeg:https://whosonthemove.com/wp-content/uploads/2026/01/FY26-CAPCSCE-Thursday-April-23-1.jpg
END:VEVENT
BEGIN:VEVENT
DTSTART;TZID=America/New_York:20260424T180000
DTEND;TZID=America/New_York:20260424T210000
DTSTAMP:20260419T094055
CREATED:20260401T215737Z
LAST-MODIFIED:20260401T215737Z
UID:484519-1777053600-1777064400@whosonthemove.com
SUMMARY:Sip & Stroll Returns to Downtown Laurens for an Evening of Shopping\, Sips\, and Music
DESCRIPTION:Downtown Laurens will once again come alive with one of its most anticipated spring events as Sip & Stroll returns on Friday\, April 24 from 6:00 to 9:00 p.m. \nHosted by Main Street Laurens\, the event invites guests to experience the charm of downtown through a relaxed evening of wine tastings\, local shopping\, and live music. \nParticipants will stroll through the historic Square\, stopping inside participating businesses for wine tastings while enjoying extended shopping hours and a lively atmosphere. The event offers a unique opportunity to explore downtown\, discover new favorite shops\, and support local businesses in a fun and social setting. \n“This is one of our favorite events because it really showcases the energy and charm of downtown Laurens\,” said Brad Abercrombie. “It’s a fun\, relaxed evening where people can connect with friends\, support local businesses\, and experience everything our Main Street has to offer.” \nTickets are currently on sale and tend to sell out quickly. Admission includes access to wine tastings at multiple downtown locations throughout the evening. Attendees must be 21 or older to participate. \nSip & Stroll has become a staple event for the community\, drawing residents and visitors alike for an evening that highlights the best of what downtown Laurens has to offer—from its small businesses to its welcoming\, walkable atmosphere. \nThose interested in attending are encouraged to purchase tickets in advance and can learn more or reserve their spot by visiting: https://www.mainstreetlaurens.org/event-details/sip-stroll-1
URL:https://whosonthemove.com/event/sip-stroll-returns-to-downtown-laurens-for-an-evening-of-shopping-sips-and-music/
LOCATION:Downtown Laurens\, Historic Courthouse Area\, Laurens\, SC\, 29360
CATEGORIES:Laurens County BUZZ
ATTACH;FMTTYPE=image/png:https://whosonthemove.com/wp-content/uploads/2026/04/Sip-Stroll-2026.png
END:VEVENT
BEGIN:VEVENT
DTSTART;TZID=America/New_York:20260425T100000
DTEND;TZID=America/New_York:20260425T170000
DTSTAMP:20260419T094055
CREATED:20260323T185741Z
LAST-MODIFIED:20260323T185741Z
UID:483120-1777111200-1777136400@whosonthemove.com
SUMMARY:LushAcres Farm Spring Farm Festival 2026
DESCRIPTION:April 25th\, 2026\n10 AM to 5 PM\nGate Fee: $12 per person\nTwo years old and younger are FREE!\nALL PROCEEDS GO TO SUPPORT THE MISSION AND PROGRAMS OF THORNWELL
URL:https://whosonthemove.com/event/lushacres-farm-spring-farm-festival-2026/
LOCATION:LushAcres Farm\, 1875 W. Maple Street Extension\, Clinton\, SC\, SC\, 29325
CATEGORIES:Laurens County BUZZ
ATTACH;FMTTYPE=image/jpeg:https://whosonthemove.com/wp-content/uploads/2026/03/642213634_928020446404921_29565173712267114_n.jpg
END:VEVENT
BEGIN:VEVENT
DTSTART;TZID=America/New_York:20260428T110000
DTEND;TZID=America/New_York:20260428T130000
DTSTAMP:20260419T094055
CREATED:20260404T162611Z
LAST-MODIFIED:20260404T162611Z
UID:484634-1777374000-1777381200@whosonthemove.com
SUMMARY:THRIVE Laurens County Listening Session: Waterloo
DESCRIPTION:THRIVE Laurens County\, a local coalition of residents\, organizations\, and institutions working together to improve health and well-being in rural communities\, will host two upcoming Community Listening Sessions open to residents across Laurens County. Both events are free and will feature boxed meals\, children’s activities\, and gift cards for registered families. These gatherings will bring neighbors together to share what matters most to them\, whether that’s access to healthy foods\, opportunities for active living\, or stronger community connections. \nWaterloo Session: Tuesday\, April 28\, 2026 | 11:00 AM – 1:00 PM Waterloo Town Hall Office | 93 Coyote Drive\, Waterloo\, SC 29384 – Space is limited to 30–40 attendees for this session. Early registration is strongly encouraged. \nBoth sessions will include: \n● Free boxed meal for all attendees\n● Fun activities for children\n● One $20.00 Food Lion gift card per registered family
URL:https://whosonthemove.com/event/thrive-laurens-county-listening-session-waterloo/
LOCATION:Waterloo Town Hall Office\, 93 Coyote Drive\, Waterloo\, SC\, 29370
CATEGORIES:Laurens County BUZZ
ATTACH;FMTTYPE=image/png:https://whosonthemove.com/wp-content/uploads/2026/04/THRIVE_COLOR-2.png
END:VEVENT
BEGIN:VEVENT
DTSTART;TZID=America/New_York:20260428T140000
DTEND;TZID=America/New_York:20260428T150000
DTSTAMP:20260419T094055
CREATED:20260413T201200Z
LAST-MODIFIED:20260413T201200Z
UID:485922-1777384800-1777388400@whosonthemove.com
SUMMARY:Funeral Pre-Planning - Event Presented by Kennedy Mortuary
DESCRIPTION:Join us at Martha Franks Retirement Community for an informative presentation by Kennedy Mortuary. At this event you will learn:\n– Why you need to plan ahead\n– Ways to Pre-plan\n– What to Expect\n– Service Options to Consider\n– Things to Think About Now\n– Helpful
URL:https://whosonthemove.com/event/funeral-pre-planning-event-presented-by-kennedy-mortuary/
LOCATION:Martha Franks Retirement Community\, 1 Martha Franks Drive\, Laurens\, SC\, 29360
CATEGORIES:Laurens County BUZZ
ATTACH;FMTTYPE=image/jpeg:https://whosonthemove.com/wp-content/uploads/2026/04/04-26_furneral-pre-planning-chambers_header-copy-1.jpg
END:VEVENT
BEGIN:VEVENT
DTSTART;TZID=America/New_York:20260429T080000
DTEND;TZID=America/New_York:20260429T100000
DTSTAMP:20260419T094055
CREATED:20260413T235100Z
LAST-MODIFIED:20260413T235100Z
UID:486036-1777449600-1777456800@whosonthemove.com
SUMMARY:Coffee & Connections
DESCRIPTION:☕🤝 Introducing Coffee & Connections!\nWe’re excited to launch a brand new networking group designed to help you grow your business through meaningful relationships and referrals!\nCoffee & Connections is a morning\, referral-based group where members can connect\, share leads\, and support one another’s success.\n📅 Kicks off: April 29\n📍 Space is limited — register today!\nA big thank you to our first meeting sponsor\, Roper Staffing Laurens Branch\, for providing light breakfast refreshments and plenty of coffee to get the conversations flowing!\nDon’t miss this opportunity to build connections that matter. We’ll see you there!\nRegister here: https://business.laurenscounty.org/…/Regi…/KVFX6dmunCBCW
URL:https://whosonthemove.com/event/coffee-connections/
LOCATION:Laurens County Chamber of Commerce\, 291 Professional Park Road Clinton\, SC 29325\, Clinton\, SC\, 29325
CATEGORIES:Laurens County BUZZ
ATTACH;FMTTYPE=image/jpeg:https://whosonthemove.com/wp-content/uploads/2026/04/653002970_1388013956701594_3816897268431171315_n.jpg
END:VEVENT
END:VCALENDAR