BEGIN:VCALENDAR
VERSION:2.0
PRODID:-//Who&#039;s On The Move - ECPv6.15.15//NONSGML v1.0//EN
CALSCALE:GREGORIAN
METHOD:PUBLISH
X-ORIGINAL-URL:https://whosonthemove.com
X-WR-CALDESC:Events for Who&#039;s On The Move
REFRESH-INTERVAL;VALUE=DURATION:PT1H
X-Robots-Tag:noindex
X-PUBLISHED-TTL:PT1H
BEGIN:VTIMEZONE
TZID:America/New_York
BEGIN:DAYLIGHT
TZOFFSETFROM:-0500
TZOFFSETTO:-0400
TZNAME:EDT
DTSTART:20240310T070000
END:DAYLIGHT
BEGIN:STANDARD
TZOFFSETFROM:-0400
TZOFFSETTO:-0500
TZNAME:EST
DTSTART:20241103T060000
END:STANDARD
BEGIN:DAYLIGHT
TZOFFSETFROM:-0500
TZOFFSETTO:-0400
TZNAME:EDT
DTSTART:20250309T070000
END:DAYLIGHT
BEGIN:STANDARD
TZOFFSETFROM:-0400
TZOFFSETTO:-0500
TZNAME:EST
DTSTART:20251102T060000
END:STANDARD
BEGIN:DAYLIGHT
TZOFFSETFROM:-0500
TZOFFSETTO:-0400
TZNAME:EDT
DTSTART:20260308T070000
END:DAYLIGHT
BEGIN:STANDARD
TZOFFSETFROM:-0400
TZOFFSETTO:-0500
TZNAME:EST
DTSTART:20261101T060000
END:STANDARD
END:VTIMEZONE
BEGIN:VEVENT
DTSTART;TZID=America/New_York:20250329T100000
DTEND;TZID=America/New_York:20250406T220000
DTSTAMP:20260424T235206
CREATED:20241104T151816Z
LAST-MODIFIED:20250120T182924Z
UID:434531-1743242400-1743976800@whosonthemove.com
SUMMARY:Credit One Charleston Open
DESCRIPTION:The Credit One Charleston Open\, North America’s largest women’s-only tennis event\, returns for its 53rd edition\, March 29 – April 6\, 2025. Celebrating its 25th year in Charleston\, the award-winning tournament marks the start of the Hologic WTA Tour clay court season and takes place annually at Credit One Stadium on Daniel Island. \nAwarded WTA 500 Tournament of the Year in 2022 and 2023\, the highly-anticipated event showcases tennis from more than 100 of the world’s best players. The growing field features top Americans including US Open Finalist Jessica Pegula\, alongside US Open semifinalist and Charleston local Emma Navarro. \nAttendees can look forward to an exciting lineup of experiences beyond the courts\, including Family Weekend\, live music\, premium food and beverage options\, pickleball and padel programming\, and more. \nSpecial discounts are available for juniors\, seniors\, and military members. Juniors\, 16 and under\, are granted complimentary general admission seating\, courtesy of Credit One Bank\, with the purchase of an adult ticket. \nTickets and packages can be purchased online at creditonecharlestonopen.com or by calling (843) 856-7900. For additional information\, please email tickets@charlestontennisllc.com.
URL:https://whosonthemove.com/event/credit-one-charleston-open-3/
LOCATION:Credit One Stadium\, 161 Seven Farms Drive\, Charleston\, SC\, 29492
CATEGORIES:Charleston, SC
ATTACH;FMTTYPE=image/jpeg:https://whosonthemove.com/wp-content/uploads/2024/11/imresizer-1730488566810.jpg
END:VEVENT
BEGIN:VEVENT
DTSTART;TZID=America/New_York:20250401T100000
DTEND;TZID=America/New_York:20250401T160000
DTSTAMP:20260424T235206
CREATED:20250311T180439Z
LAST-MODIFIED:20250311T180439Z
UID:445083-1743501600-1743523200@whosonthemove.com
SUMMARY:City of Charleston announces 2025 Small Business Opportunity Expo
DESCRIPTION:The City of Charleston announced the highly anticipated Small Business Opportunity Expo is returning this year. This year’s event promises to unite industry leaders\, innovators\, and creatives from across the city\, spotlighting underrepresented\, disadvantaged\, veteran\, minority\, and women-owned businesses. The Small Business Opportunity Expo 2025 will be held at The Gaillard Center in Charleston\, SC\, on Tuesday\, April 1st from 10:00 AM to 4:00 PM. Registration is required to attend. Interested individuals can sign up at this link. \nThe Expo will feature a range of exhibits\, hands-on demonstrations\, and engaging presentations designed to spark conversation and foster collaboration. Attendees can participate in free workshops covering access to capital\, legal basics\, and more. Presentations by successful business owners\, government agencies\, and municipal partners will also be available. \n“Building on the success of last year\, we’re thrilled to offer this free expo again\, providing small businesses with valuable resources to help them thrive in 2025\,” said Ruth Jordan\, Minority and Women-Owned Business Development Manager. “The Small Business Opportunity Expo is designed to connect entrepreneurs with essential tools\, funding options\, and expert guidance to fuel their growth. If you’re looking to expand and elevate your business in 2025\, this is the perfect opportunity to get started and make meaningful connections!”
URL:https://whosonthemove.com/event/city-of-charleston-announces-2025-small-business-opportunity-expo/
LOCATION:Gaillard Center\, 95 Calhoun St.\, Charleston\, SC\, 29401
CATEGORIES:Charleston, SC
ATTACH;FMTTYPE=image/png:https://whosonthemove.com/wp-content/uploads/2025/03/Screenshot-2025-03-11-at-2.00.58-PM.png
END:VEVENT
BEGIN:VEVENT
DTSTART;TZID=America/New_York:20250405T120000
DTEND;TZID=America/New_York:20250405T150000
DTSTAMP:20260424T235206
CREATED:20250130T185401Z
LAST-MODIFIED:20250130T185401Z
UID:441314-1743854400-1743865200@whosonthemove.com
SUMMARY:2025 Annual Spring Gathering
DESCRIPTION:Lowcountry Land Trust’s annual Spring Gathering will be held on Saturday\, April 5\, at Plum Hill in the ACE Basin. Situated on 945 acres protected by a Lowcountry Land Trust conservation easement\, guests will enjoy a family-friendly event highlighting the property’s historic rice fields and the adjacent Combahee River. The event will be family-friendly\, and tickets are all-inclusive. \nSaturday\, April 5\, 2025  \n12 pm to 3 pm \nPlum Hill  | Yemassee\, SC  \nAdults $95  | Children (2-12) $25 \nGuests will enjoy a southern-style lunch with ingredients grown and sourced by Peculiar Pig Farm\, local beer and spirits\, and bluegrass music from The Cluster Shucks. With a dedicated play area for children\, a silent auction featuring local products and experiences\, and garden\, history\, and rice field tours of the iconic property\, we are excited for you to bring the whole family to this homegrown event. \nA limited number of tickets are available for this event. All tickets go on sale on 2/27 and must be purchased in advance. 
URL:https://whosonthemove.com/event/2025-annual-spring-gathering/
LOCATION:Plum Hill\, 2979 Combahee Rd\, Yemassee\, SC\, 29945\, United States
CATEGORIES:Charleston, SC
ATTACH;FMTTYPE=image/png:https://whosonthemove.com/wp-content/uploads/2025/01/Screenshot-2025-01-30-at-1.48.53-PM-e1738262993918.png
END:VEVENT
BEGIN:VEVENT
DTSTART;TZID=America/New_York:20250409T090000
DTEND;TZID=America/New_York:20250409T170000
DTSTAMP:20260424T235206
CREATED:20250328T204318Z
LAST-MODIFIED:20250328T204318Z
UID:446517-1744189200-1744218000@whosonthemove.com
SUMMARY:2025 Resilience by Design Conference
DESCRIPTION:Join us on Wednesday\, April 9 for the 2025 Resilience by Design Conference at the Clemson Architecture Center (in the Cigar Factory) in Charleston. This one-day annual conference provides architecture/engineering/construction professionals with essential tools to incorporate resilient design strategies into practice. \nWe have an amazing day planned with an inspiring line-up of speakers\, including an opening keynote by AIA 2026 President Illya Azaroff\, FAIA. The Resilience By Design conference includes a continental breakfast\, lunch\, a full day of presentations and discussion\, and we will wrap up with a moderated panel featuring speakers from throughout the day. \nInformation and registration online at https://web.cvent.com/event/a3f99440-27c9-40c8-8ba4-9f7c62ba9c6c/summary
URL:https://whosonthemove.com/event/2025-resilience-by-design-conference/
LOCATION:Clemson Architecture Center\, 701 East Bay Street\, Charleston\, SC\, 29403
CATEGORIES:Charleston, SC
ATTACH;FMTTYPE=image/jpeg:https://whosonthemove.com/wp-content/uploads/2025/03/banneradrxd2-scaled.jpg
END:VEVENT
BEGIN:VEVENT
DTSTART;TZID=America/New_York:20250412T120000
DTEND;TZID=America/New_York:20250412T180000
DTSTAMP:20260424T235206
CREATED:20250303T193219Z
LAST-MODIFIED:20250402T204154Z
UID:444310-1744459200-1744480800@whosonthemove.com
SUMMARY:Lowcountry Cajun Festival
DESCRIPTION:The Lowcountry Cajun Festival is back this spring at James Island County Park! Charleston’s favorite ragin’ Cajun celebration will be held on Saturday\, April 12\, 2025 from 12 – 6 p.m. \nBringing Louisiana to the Lowcountry\, the Lowcountry Cajun Festival is a full day of Zydeco music\, food\, kids’ activities\, and all-around ragin’ Cajun fun! Savor the tastes of authentic Cajun and Creole fare including jambalaya\, alligator\, etouffee\, andouille sausage and crawfish. Also available will be favorites such as seafood\, Southern barbecue and traditional festival foods. After getting their fill of food\, festival-goers can boogie down to live\, non-stop Zydeco and Cajun music performed on stage throughout the day. \n \nThe 2025 Entertainment Schedule is: \n\n1 p.m.: Blackcat Zydeco featuring Dwight Carrier – Louisiana native with a unique style that infuses his zydeco\, blues\, country and R&B influences\n2:30 p.m.: Corey Arceneaux & the Zydeco Hot Peppers – Recognized as a Louisiana Creole Zydeco Ambassador\, Corey is a fourth-generation Creole accordionist\n4:30 p.m:. Ruben Moreno’s Zydeco Re-Evolution – A stylistically unique Blues Rock Zydeco Band based out of Houston\n\nOther entertainment will take place on the small stage: \n\n1 p.m.: Who Calls the Swamp Home? – Children’s reptile program presented by Friends of Coastal South Carolina\n2:30 p.m.: Crawfish Eating Contest\n\n \nOther festivities include a crafters’ market\, souvenirs for sale and a kids’ area. Children can enjoy access to the inflatables in the kids’ area all day with the purchase of a $10 hand stamp. Credit cards will be accepted at select locations but attendees are encouraged to bring cash for convenience purposes. \nFestival admission will be charged per vehicle. A limited number of vehicles will be admitted\, and tickets are expected to sell out\, so advance purchase is recommended. Tickets are $35 per vehicle of up to 15 people in advance. If available\, tickets at the gate will be $40 per vehicle. For details and to purchase tickets\, visit CharlestonCountyParks.com (direct link). Gold Pass holders do not need a ticket. \nGold Passes will be valid for vehicle admission; the pass must be presented at the gate for entry. Gold Passes will not be sold on site the day of the festival\, but may be purchased in advance at CharlestonCountyParks.com (receipt will not be accepted). \n \nNo coolers or outside food or alcohol permitted. Carpooling is highly encouraged. Pets are not permitted at this event. James Island County Park will be closed to regular park guests on April 12 in order to host the festival. Accessible restrooms and portolets are available at the event. An accessible area will be available near the stage. A quiet area will be offered at the park’s Toogoodoo Porch. Visit the Accessibility Tent for more information and to check out KultureCity sensory bags. \nFor more information on the Lowcountry Cajun Festival\, including event rules\, or to purchase tickets\, visit CharlestonCountyParks.com (direct link) or call 843-795-4386. \n  \n  \n 
URL:https://whosonthemove.com/event/lowcountry-cajun-festival-set-for-saturday-april-12-at-james-island-county-park/
LOCATION:James Island County Park\, 871 Riverland Drive\, Charleston\, SC\, 29412
CATEGORIES:Charleston, SC
ATTACH;FMTTYPE=image/jpeg:https://whosonthemove.com/wp-content/uploads/2024/08/image001-6-e1724960235256.jpg
END:VEVENT
BEGIN:VEVENT
DTSTART;TZID=America/New_York:20250423T160000
DTEND;TZID=America/New_York:20250423T170000
DTSTAMP:20260424T235206
CREATED:20250402T125846Z
LAST-MODIFIED:20250402T125942Z
UID:447287-1745424000-1745427600@whosonthemove.com
SUMMARY:Blooms and Bubbles: Exclusive Garden Tour with the Garden Club of Charleston
DESCRIPTION:Wednesday\, April 23 | 4:00 – 5:00 PM\nThe beautiful formal garden located behind the Heyward-Washington House has been maintained by the Garden Club of Charleston since 1941. The garden is designed to reflect what might have been found in Charleston during the late 1700s and features a knot garden and plants authentic to the period. Join members of the Garden Club for a guided tour to learn more about the flowers and trees featured and the work that goes into maintaining a historic formal garden. Guests are invited to tour the interior of the Heyward-Washington House before the garden tour commences at 4:00 pm. Spring themed refreshments will be served prior to the tour. \nThis tour is FREE for Members and FREE with admission to the Heyward-Washington House. The last tour of the day of the interior of the Heyward-Washington House is at 4:15pm. \nReservations required.  Fee for non-members covers house admission. \nFree for Museum Member | $15 Non-Member \nRegister online or call 843-722-2996 ext. 235. \n*Cancellations must be requested 48 hours in advance for a refund minus $10 administration fee. Full registration fee may be transferred to other adult programs.  Cancellations made less than 48 hours in advance will result in a forfeiture of tour fee
URL:https://whosonthemove.com/event/blooms-and-bubbles-exclusive-garden-tour-with-the-garden-club-of-charleston/
LOCATION:The Heyward-Washington House\, 87 Church Street \, Charleston\, SC\, 29403
CATEGORIES:Charleston, SC
ATTACH;FMTTYPE=image/png:https://whosonthemove.com/wp-content/uploads/2025/04/garden.png
END:VEVENT
BEGIN:VEVENT
DTSTART;TZID=America/New_York:20250424T050000
DTEND;TZID=America/New_York:20250424T183000
DTSTAMP:20260424T235206
CREATED:20250415T174626Z
LAST-MODIFIED:20250415T174626Z
UID:448610-1745470800-1745519400@whosonthemove.com
SUMMARY:City of Charleston to host open house on Lowcountry Lowline Project
DESCRIPTION:Public invited to preview designs for transformational bike and pedestrian path \nThe City of Charleston will host a public open house on Thursday\, April 24 to share updates and gather feedback on the Lowcountry Lowline\, a 1.7-mile pedestrian and bicycle greenway that will run along the spine of the Charleston peninsula. The event follows City Council’s recent approval of a $1.1 million design-build contract\, officially launching the first phase of construction. \nWHO:         City of Charleston\nEdifice Construction\nDesignWorks\nForsberg Engineering\nRDE\nStitch Design Co. \nWHAT:       Community Open House on the Lowcountry Lowline Project \nWHEN:      Thursday\, April 24\, 2024 from 5:00 – 6:30 p.m. \nWHERE:    Palmetto Brewing Company\n289 Huger Street\, Charleston\, SC\nEvent space generously provided by Palmetto Brewing Company \nBACKGROUND: \nThe Lowcountry Lowline is a visionary linear park that will reclaim a former rail corridor beneath I-26\, creating a dedicated 12-foot-wide bike trail and 10-foot-wide walkway separated by a landscaped median. The first phase will extend from Mount Pleasant Street to Line Street\, with future phases aiming to connect to Marion Square. Mid-block crossings\, neighborhood street connections\, and future revenue-generating parking lots are also included in the project scope. \nThis open house is an opportunity for community members to engage with the project team\, preview early designs\, and learn more about how the Lowline will improve mobility\, connectivity\, and public space across the peninsula. \n 
URL:https://whosonthemove.com/event/city-of-charleston-to-host-open-house-on-lowcountry-lowline-project/
LOCATION:Palmetto Brewing Company\, 289 Huger Street\, Charleston\, SC\, 29203\, United States
CATEGORIES:Charleston, SC
ATTACH;FMTTYPE=image/png:https://whosonthemove.com/wp-content/uploads/2025/04/Screenshot-2025-04-15-at-12.33.08-PM.png
END:VEVENT
BEGIN:VEVENT
DTSTART;TZID=America/New_York:20250424T180000
DTEND;TZID=America/New_York:20250424T193000
DTSTAMP:20260424T235206
CREATED:20250402T130900Z
LAST-MODIFIED:20250402T131044Z
UID:447292-1745517600-1745523000@whosonthemove.com
SUMMARY:Revolutionary War Siege Lines Walking Tour with Director Carl Borick
DESCRIPTION:Thursday\, April 24 | 6:00 – 7:30 PM\nJoin Carl P. Borick\, Director of The Charleston Museum and author of A Gallant Defense: The Siege of Charleston\, 1780\, as he leads a tour to some of the key points related to the Revolutionary War Siege of Charleston\, the longest siege of the war and largest battle fought in South Carolina. The area to be toured\, now an urban landscape interspersed with pleasant city parks was once the site of vicious fighting between besieging British troops and Patriot defenders during April – May 1780. Although the fortifications have long since disappeared\, Borick will highlight notable features of the terrain that serve as reminders of this momentous battle. \nThe tour will begin at 6 pm\, leaving from the Museum\, for a walking tour lasting 1 – 1.5 hours. Comfortable footwear is recommended. Participants are invited to arrive early to purchase A Gallant Defense: The Siege of Charleston\, 1780 or are welcome to bring previously purchased books to have signed. \nSpace is limited. Reservations required. Cancellations must be requested 48 hours in advance for a refund minus $10 administration fee. Full registration fee may be transferred to other adult programs.  Cancellations made less than 48 hours in advance will result in a forfeiture of tour fee. \n$40 Museum Members | $55 Non-Members
URL:https://whosonthemove.com/event/revolutionary-war-siege-lines-walking-tour-with-director-carl-borick/
LOCATION:Charleston Museum\, 360 Meeting St\, Charleston\, SC\, 29403
CATEGORIES:Charleston, SC
ATTACH;FMTTYPE=image/png:https://whosonthemove.com/wp-content/uploads/2025/04/battle.png
END:VEVENT
BEGIN:VEVENT
DTSTART;TZID=America/New_York:20250424T183000
DTEND;TZID=America/New_York:20250424T210000
DTSTAMP:20260424T235206
CREATED:20250113T200540Z
LAST-MODIFIED:20250113T200540Z
UID:439734-1745519400-1745528400@whosonthemove.com
SUMMARY:17th Annual iFiveK Race
DESCRIPTION:Charleston Digital (CDC) is pleased to announce the return of its much-anticipated spring wellness and networking event – the Innovators’ 5K (iFiveK) race. \nThe iFiveK\, now in its 17th year\, continues to be the highlight of Charleston’s vibrant tech community calendar. The 2025 race is scheduled for April 24\, 2025 at 6:30pm. REGISTRATION IS NOW OPEN! \nThe iFiveK is the only weekday evening race held in Downtown Charleston\, guiding runners\, walkers\, and joggers through a loop adjacent to the Charleston Tech Center. Proceeds from the race benefit the CDC’s education initiatives at the Charleston Learning Center. \nThis year\, Charleston Digital welcomes new sponsors – QuicksortRx\, HabitNu\, Case Status and Portside Technology while celebrating our returning sponsors including Blackbaud\, Moovila\, Cloud on Tap\, and\nLaunchpad and more. Their contributions make the iFiveK a successful and impactful community event while fostering tech education and community growth.
URL:https://whosonthemove.com/event/17th-annual-ifivek-race/
CATEGORIES:Charleston, SC
ATTACH;FMTTYPE=image/png:https://whosonthemove.com/wp-content/uploads/2025/01/iFive.png
END:VEVENT
BEGIN:VEVENT
DTSTART;VALUE=DATE:20250425
DTEND;VALUE=DATE:20250428
DTSTAMP:20260424T235206
CREATED:20250220T013533Z
LAST-MODIFIED:20250220T152518Z
UID:443080-1745539200-1745798399@whosonthemove.com
SUMMARY:The Ultimate Food & Culture Experience: Black Food Truck Festival Returns April 25-27\, 2025
DESCRIPTION:An Unforgettable Weekend of Flavor\, Music and Community \nThe highly anticipated Black Food Truck Festival returns this spring\, bringing together delicious cuisine\, live music\, family-friendly activities\, and cultural celebrations. Tickets are on sale now for the three-day festival\, happening April 25-27\, 2025\, at the Exchange Park Fairgrounds in Ladson\, S.C. \nIn honor of Black History Month\, limited discounted early bird tickets are available throughout February. \nA Celebration of Black Culture & Cuisine \nFor centuries\, food has been a cornerstone of Black culture—preserving traditions\, fostering community\, and sharing stories of resilience and heritage. The Black Food Truck Festival honors this legacy by featuring over 40 food trucks\, offering everything from Black American soul food to West African delicacies. \nBeyond the food\, the festival is dedicated to making a lasting economic and social impact\, spotlighting and supporting Black-owned businesses. In 2024\, the Black Food Truck Festival contributed $10.3 million to the local economy\, driving tourism\, creating jobs\, and generating significant revenue for vendors\, food trucks\, and surrounding businesses. \nMore Than Just a Festival – It’s an Experience \nFestival founder Marcus Hammond is proud of the national recognition the Black Food Truck Festival continues to receive and the positive impact it has on the Charleston community. “This event is bigger than food—it’s a full cultural experience\,” Hammond says. “It’s a chance to connect\, celebrate\, and uplift entrepreneurs and artists while enjoying an unforgettable weekend of fun.” \nAlongside amazing food\, attendees can look forward to: \n\n\nLive entertainment and DJs \n\n\nDancing and interactive experiences \n\n\nCraft artisans and vendors \n\n\nGames and lounge areas \n\n\nTicket Information & Black History Month Specials \nFestival hours:\nVIP Entry: 11:00 a.m. – 7:00 p.m.\nGeneral Admission: 12:00 p.m. – 7:00 p.m. \nTicket Prices: \n\n\nGeneral Admission: Starting at $15 \n\n\nVIP Passes: Starting at $140 \n\n\nWeekend and Two-Day Passes Available \n\n\nSpecial Events: Rhythm & Booze Opening Party at The Wonderer + Saturday Night After Party \n\n\nChildren 12 and under enter free. No pets allowed. \n\n\nFor more information about the Black Food Truck Festival and to purchase tickets please visit blackfoodtruckfestival.com or follow on social media at @blackfoodtruckfestival. Watch the 2024 Black Food Truck Festival Recap video.
URL:https://whosonthemove.com/event/the-ultimate-food-culture-experience-black-food-truck-festival-returns-april-25-27-2025/
LOCATION:Exchange Park Fairgrounds\, 9850 Highway 78\, Ladson\, SC\, 29456
CATEGORIES:Charleston, SC
ATTACH;FMTTYPE=image/png:https://whosonthemove.com/wp-content/uploads/2025/02/unnamed-93-e1740065110677.png
END:VEVENT
BEGIN:VEVENT
DTSTART;TZID=America/New_York:20250427T080000
DTEND;TZID=America/New_York:20250427T170000
DTSTAMP:20260424T235206
CREATED:20250318T164615Z
LAST-MODIFIED:20250318T164615Z
UID:445863-1745740800-1745773200@whosonthemove.com
SUMMARY:Celebrate the Spirit of New Orleans Charleston Jazz Festival Finale Big Chief Donald Harrison Quartet
DESCRIPTION:Circular Congregational Church Sunday April 27\, 5-6:30PM \nJoin us for an extraordinary night of music and culture as the Charleston Jazz Festival\, in partnership with Spoleto Festival USA\, proudly presents the grand finale featuring the incomparable Big Chief Donald Harrison Quartet from New Orleans. \nA National Endowment for the Arts Jazz Master and cultural ambassador\, Donald Harrison seamlessly blends traditional New Orleans sounds with modern jazz\, funk\, and more\, creating a style as vibrant as the city he calls home. From his early days with Art Blakey’s Jazz Messengers to performing with legends like Ron Carter\, The Headhunters\, and The Cookers\, Harrison’s high-energy grooves and soulful melodies have captivated audiences worldwide. \nIn New Orleans\, he is revered as “Big Chief” for his dedication to preserving and promoting Afro-New Orleans Cultural Groups\, a tradition inherited from his father that plays a vital role in community organization. Don’t miss this unforgettable performance\, where Harrison and his quartet will capture the spirit of New Orleans and celebrate the rich legacy and future of jazz. \nFeaturing: \nDonald Harrison – Alto Saxophone \nDan Kaufman – Piano \nNori Naraoka – Bass \nJoe Dyson – Drums \nTickets and more information  \n 
URL:https://whosonthemove.com/event/celebrate-the-spirit-of-new-orleans-charleston-jazz-festival-finale-big-chief-donald-harrison-quartet/
LOCATION:Circular Congregational Church\, 150 Meeting Street\, Charleston\, SC
CATEGORIES:Charleston, SC
ATTACH;FMTTYPE=image/jpeg:https://whosonthemove.com/wp-content/uploads/2025/03/unnamed-2025-03-18T124238.722-e1742316199548.jpg
END:VEVENT
BEGIN:VEVENT
DTSTART;TZID=America/New_York:20250430T100000
DTEND;TZID=America/New_York:20250430T130000
DTSTAMP:20260424T235206
CREATED:20250411T173748Z
LAST-MODIFIED:20250411T173748Z
UID:448200-1746007200-1746018000@whosonthemove.com
SUMMARY:Berkeley County\, SC Works Trident Teaming Up for Career Expo on April 30
DESCRIPTION:For military TAP participants\, spouses\, and individuals impacted by federal layoffs\n\nBerkeley County Economic Development\, in partnership with SC Works Trident\, is hosting a Workforce Career Expo on Wednesday\, April 30\, 2025\, from 10 a.m. to 1 p.m. at the Berkeley County Administration Building\, located at 1003 Highway 52 in Moncks Corner.\n\nWhile this event is meant to offer employment opportunities to military Transition Assistance Program (TAP) participants\, their spouses\, and individuals impacted by federal layoffs\, it is FREE and open to the public. Anyone seeking a job or career change may attend. \nSeveral employers from Berkeley County’s industrial sector and other organizations from various career fields around the Tri-County region will be on hand to meet with potential employees. \nPlease bring an updated copy of your resume and be prepared to interview on the spot. \nFor more information and an ongoing list of employers\, go HERE. \nFor questions\, please contact Corey McClary\, Berkeley County Workforce Development Manager\, at corey.mcclary@berkeleycountysc.gov. \n 
URL:https://whosonthemove.com/event/berkeley-county-sc-works-trident-teaming-up-for-career-expo-on-april-30/
LOCATION:Berkeley County Administration Building\, 1003 N. Highway 52\, Moncks Corner\, South Carolina
CATEGORIES:Charleston, SC
ATTACH;FMTTYPE=image/png:https://whosonthemove.com/wp-content/uploads/2022/02/berkeley_county.png
END:VEVENT
END:VCALENDAR