BEGIN:VCALENDAR
VERSION:2.0
PRODID:-//Who&#039;s On The Move - ECPv6.15.15//NONSGML v1.0//EN
CALSCALE:GREGORIAN
METHOD:PUBLISH
X-WR-CALNAME:Who&#039;s On The Move
X-ORIGINAL-URL:https://whosonthemove.com
X-WR-CALDESC:Events for Who&#039;s On The Move
REFRESH-INTERVAL;VALUE=DURATION:PT1H
X-Robots-Tag:noindex
X-PUBLISHED-TTL:PT1H
BEGIN:VTIMEZONE
TZID:America/New_York
BEGIN:DAYLIGHT
TZOFFSETFROM:-0500
TZOFFSETTO:-0400
TZNAME:EDT
DTSTART:20240310T070000
END:DAYLIGHT
BEGIN:STANDARD
TZOFFSETFROM:-0400
TZOFFSETTO:-0500
TZNAME:EST
DTSTART:20241103T060000
END:STANDARD
BEGIN:DAYLIGHT
TZOFFSETFROM:-0500
TZOFFSETTO:-0400
TZNAME:EDT
DTSTART:20250309T070000
END:DAYLIGHT
BEGIN:STANDARD
TZOFFSETFROM:-0400
TZOFFSETTO:-0500
TZNAME:EST
DTSTART:20251102T060000
END:STANDARD
BEGIN:DAYLIGHT
TZOFFSETFROM:-0500
TZOFFSETTO:-0400
TZNAME:EDT
DTSTART:20260308T070000
END:DAYLIGHT
BEGIN:STANDARD
TZOFFSETFROM:-0400
TZOFFSETTO:-0500
TZNAME:EST
DTSTART:20261101T060000
END:STANDARD
END:VTIMEZONE
BEGIN:VEVENT
DTSTART;TZID=America/New_York:20250516T190000
DTEND;TZID=America/New_York:20250516T220000
DTSTAMP:20260424T220744
CREATED:20250415T175057Z
LAST-MODIFIED:20250415T175057Z
UID:448613-1747422000-1747432800@whosonthemove.com
SUMMARY:Dancing on the Cooper: Tommy & The Chucktown Players
DESCRIPTION:Friday\, May 16\, 7 – 10 p.m.\nMount Pleasant Pier\nEnjoy scenic views of the Charleston Harbor while dancing to live classic country and southern rock music from Tommy & The Chucktown Players. Live music starts at 7:30 p.m.\nFee: $10 – $15\nAges: 4 and up\nhttps://ccprc.com/1175/Dancing-on-the-Cooper
URL:https://whosonthemove.com/event/dancing-on-the-cooper-tommy-the-chucktown-players/
LOCATION:Mount Pleasant Pier\, 71 Harry M. Hallman Jr Blvd\, Charleston\, SC\, 29464\, United States
CATEGORIES:Charleston, SC
ATTACH;FMTTYPE=image/jpeg:https://whosonthemove.com/wp-content/uploads/2024/08/image001-6-e1724960235256.jpg
END:VEVENT
BEGIN:VEVENT
DTSTART;TZID=America/New_York:20250523T090000
DTEND;TZID=America/New_York:20250815T170000
DTSTAMP:20260424T220744
CREATED:20250317T145600Z
LAST-MODIFIED:20250317T180701Z
UID:445631-1747990800-1755277200@whosonthemove.com
SUMMARY:Nature POP!®
DESCRIPTION:Magnolia Plantation & Gardens is bringing a bold new experience to the Lowcountry this summer with Nature POP!®\, an exhibition by acclaimed artist Sean Kenney. Opening May 23 through August 15\, 2025\, this exhibit will feature more than 40 larger-than-life sculptures made entirely of LEGO® bricks\, celebrating the beauty of nature through an exciting pop-art lens. \nProduced by Imagine\, Nature POP!® brings together art\, science and innovation in a fun yet thought-provoking way\, offering a playful spin on traditional sculptural art. Constructed from over 800\,000 LEGO® pieces\, these gravity-defying sculptures will be placed throughout Magnolia\, where their colorful designs will create a striking contrast against the garden’s historic beauty. \n“We are thrilled to bring artist Sean Kenney’s Nature POP!®: Made with LEGO® bricks to Magnolia\,” said Susan Shallo\, CEO of Magnolia Plantation & Gardens. “Just as our historic gardens offer something for everyone\, this exhibition merges art\, innovation\, and nature to create a truly dynamic and immersive experience.” \nGuests can explore the installation daily from 9 a.m. to 5 p.m. starting May 23 through August 15\, 2025. Exhibit access is included with general garden admission. General admission tickets are Adults $35; Seniors (62+)\, Military\, and Teachers (with ID) $32; Youth (12-17) $21; Children (5-11) $17; Ages 4 and under free (ticket required). \nTickets are available for purchase at Magnolia Plantation & Gardens and online at https://www.magnoliaplantation.com/magnolia-events. \n  \nAbout Magnolia Plantation & Gardens \nFounded in 1679\, Magnolia Plantation & Gardens is one of the most picturesque gardens in the south and one of Charleston’s most iconic landmarks. Rooted in history\, horticulture\, and nature\, Magnolia’s renowned gardens have welcomed visitors for over three centuries\, offering an immersive experience that highlights the beauty and biodiversity of the Lowcountry. Committed to conservation\, education\, and preservation\, Magnolia continues to provide something for everyone\, offering engaging programs\, events and exhibitions that celebrate the intersection of art\, horticulture\, history and nature. To learn more\, please visit magnoliaplantation.com.
URL:https://whosonthemove.com/event/nature-pop/
LOCATION:Magnolia Plantation and Gardens
CATEGORIES:Charleston, SC
ATTACH;FMTTYPE=image/png:https://whosonthemove.com/wp-content/uploads/2025/03/POP.png
END:VEVENT
BEGIN:VEVENT
DTSTART;TZID=America/New_York:20250530T193000
DTEND;TZID=America/New_York:20250530T230000
DTSTAMP:20260424T220744
CREATED:20250415T175532Z
LAST-MODIFIED:20250415T175532Z
UID:448617-1748633400-1748646000@whosonthemove.com
SUMMARY:Reggae Nights Summer Concert
DESCRIPTION:Friday\, May 30\, 7:30 – 11 p.m. \nJames Island County Park\nRelax and enjoy traditional old school roots reggae with a new school attitude in the beautiful outdoor setting of James Island County Park. Bring your chair or blanket and rock the night away! Food\, beverages\, and souvenirs will be available for purchase. Music by Mystic Vibrations begins at 8:00 p.m. Visit our website at ccprc.com or call (843) 795-4386 for more information. \nFee: $30\nAges: any \nhttps://www.ccprc.com/1619/Reggae-Nights \n 
URL:https://whosonthemove.com/event/reggae-nights-summer-concert/
LOCATION:James Island County Park\, 871 Riverland Drive\, Charleston\, SC\, 29412
CATEGORIES:Charleston, SC
ATTACH;FMTTYPE=image/jpeg:https://whosonthemove.com/wp-content/uploads/2024/08/image001-6-e1724960235256.jpg
END:VEVENT
END:VCALENDAR