BEGIN:VCALENDAR
VERSION:2.0
PRODID:-//Who&#039;s On The Move - ECPv6.15.15//NONSGML v1.0//EN
CALSCALE:GREGORIAN
METHOD:PUBLISH
X-WR-CALNAME:Who&#039;s On The Move
X-ORIGINAL-URL:https://whosonthemove.com
X-WR-CALDESC:Events for Who&#039;s On The Move
REFRESH-INTERVAL;VALUE=DURATION:PT1H
X-Robots-Tag:noindex
X-PUBLISHED-TTL:PT1H
BEGIN:VTIMEZONE
TZID:America/New_York
BEGIN:DAYLIGHT
TZOFFSETFROM:-0500
TZOFFSETTO:-0400
TZNAME:EDT
DTSTART:20240310T070000
END:DAYLIGHT
BEGIN:STANDARD
TZOFFSETFROM:-0400
TZOFFSETTO:-0500
TZNAME:EST
DTSTART:20241103T060000
END:STANDARD
BEGIN:DAYLIGHT
TZOFFSETFROM:-0500
TZOFFSETTO:-0400
TZNAME:EDT
DTSTART:20250309T070000
END:DAYLIGHT
BEGIN:STANDARD
TZOFFSETFROM:-0400
TZOFFSETTO:-0500
TZNAME:EST
DTSTART:20251102T060000
END:STANDARD
BEGIN:DAYLIGHT
TZOFFSETFROM:-0500
TZOFFSETTO:-0400
TZNAME:EDT
DTSTART:20260308T070000
END:DAYLIGHT
BEGIN:STANDARD
TZOFFSETFROM:-0400
TZOFFSETTO:-0500
TZNAME:EST
DTSTART:20261101T060000
END:STANDARD
END:VTIMEZONE
BEGIN:VEVENT
DTSTART;TZID=America/New_York:20250523T090000
DTEND;TZID=America/New_York:20250815T170000
DTSTAMP:20260424T202427
CREATED:20250317T145600Z
LAST-MODIFIED:20250317T180701Z
UID:445631-1747990800-1755277200@whosonthemove.com
SUMMARY:Nature POP!®
DESCRIPTION:Magnolia Plantation & Gardens is bringing a bold new experience to the Lowcountry this summer with Nature POP!®\, an exhibition by acclaimed artist Sean Kenney. Opening May 23 through August 15\, 2025\, this exhibit will feature more than 40 larger-than-life sculptures made entirely of LEGO® bricks\, celebrating the beauty of nature through an exciting pop-art lens. \nProduced by Imagine\, Nature POP!® brings together art\, science and innovation in a fun yet thought-provoking way\, offering a playful spin on traditional sculptural art. Constructed from over 800\,000 LEGO® pieces\, these gravity-defying sculptures will be placed throughout Magnolia\, where their colorful designs will create a striking contrast against the garden’s historic beauty. \n“We are thrilled to bring artist Sean Kenney’s Nature POP!®: Made with LEGO® bricks to Magnolia\,” said Susan Shallo\, CEO of Magnolia Plantation & Gardens. “Just as our historic gardens offer something for everyone\, this exhibition merges art\, innovation\, and nature to create a truly dynamic and immersive experience.” \nGuests can explore the installation daily from 9 a.m. to 5 p.m. starting May 23 through August 15\, 2025. Exhibit access is included with general garden admission. General admission tickets are Adults $35; Seniors (62+)\, Military\, and Teachers (with ID) $32; Youth (12-17) $21; Children (5-11) $17; Ages 4 and under free (ticket required). \nTickets are available for purchase at Magnolia Plantation & Gardens and online at https://www.magnoliaplantation.com/magnolia-events. \n  \nAbout Magnolia Plantation & Gardens \nFounded in 1679\, Magnolia Plantation & Gardens is one of the most picturesque gardens in the south and one of Charleston’s most iconic landmarks. Rooted in history\, horticulture\, and nature\, Magnolia’s renowned gardens have welcomed visitors for over three centuries\, offering an immersive experience that highlights the beauty and biodiversity of the Lowcountry. Committed to conservation\, education\, and preservation\, Magnolia continues to provide something for everyone\, offering engaging programs\, events and exhibitions that celebrate the intersection of art\, horticulture\, history and nature. To learn more\, please visit magnoliaplantation.com.
URL:https://whosonthemove.com/event/nature-pop/
LOCATION:Magnolia Plantation and Gardens
CATEGORIES:Charleston, SC
ATTACH;FMTTYPE=image/png:https://whosonthemove.com/wp-content/uploads/2025/03/POP.png
END:VEVENT
BEGIN:VEVENT
DTSTART;TZID=America/New_York:20250603T120000
DTEND;TZID=America/New_York:20250603T130000
DTSTAMP:20260424T202427
CREATED:20250515T134343Z
LAST-MODIFIED:20250515T134343Z
UID:450883-1748952000-1748955600@whosonthemove.com
SUMMARY:CLIMB Fund - Small Business Loan Application Workshop
DESCRIPTION:Hey there small business owners and entrepreneurs! Ready to take your business to the next level? Join CLIMB Fund for an online & free workshop where you’ll learn all about our application process to get funding and help streamline your business operations. \nVisit https://www.eventbrite.com/o/climb-fund-71428351803 to sign up!
URL:https://whosonthemove.com/event/climb-fund-small-business-loan-application-workshop/
LOCATION:South Carolina
CATEGORIES:Charleston, SC
ATTACH;FMTTYPE=image/jpeg:https://whosonthemove.com/wp-content/uploads/2019/04/placeholder.jpg
END:VEVENT
BEGIN:VEVENT
DTSTART;TZID=America/New_York:20250618T113000
DTEND;TZID=America/New_York:20250618T130000
DTSTAMP:20260424T202427
CREATED:20250616T163833Z
LAST-MODIFIED:20250616T163833Z
UID:453369-1750246200-1750251600@whosonthemove.com
SUMMARY:MPCC June Bi-Monthly Luncheon with John Wright
DESCRIPTION:John Wright is a dedicated community leader and veteran with a strong background in the military (23 years as a Combat Engineer) and business (founder of Club Buffs and The Gullah Bar). He’s passionate about education\, health\, and community development\, evident through his founding of the Wright Walk to raise awareness about childhood obesity and hunger. \nJohn has received numerous awards for his community service\, including the Presidential Award for Excellence in Education and the Jefferson Award. He’s also a radio host on WJNI 106.3 and has served on various boards and commissions\, including the Charleston County Historic Preservation Commission. John is known for his charitable efforts\, such as organizing a water drive for Flint\, Michigan\, and hosting a Christmas block party in the Old Village.
URL:https://whosonthemove.com/event/mpcc-june-bi-monthly-luncheon-with-john-wright/
LOCATION:Omar Shrine\, 176 Patriots Point Road\, Mount Pleasant\, SC\, 29464
CATEGORIES:Charleston, SC
ATTACH;FMTTYPE=image/jpeg:https://whosonthemove.com/wp-content/uploads/2025/06/EventPhotoFull_Untitled-design-10.jpg
END:VEVENT
BEGIN:VEVENT
DTSTART;TZID=America/New_York:20250625T120000
DTEND;TZID=America/New_York:20250625T133000
DTSTAMP:20260424T202427
CREATED:20250624T154950Z
LAST-MODIFIED:20250624T191432Z
UID:454157-1750852800-1750858200@whosonthemove.com
SUMMARY:Google Career Certificate Open House
DESCRIPTION:Curious about starting a new career in tech or growing your digital skills? Join us for an informative Open House at the Charleston Learning Center to explore the Google Career Certificate program –- a flexible\, self-paced pathway to in-demand jobs in fields like AI Essentials\, IT Support\, Digital Marketing\, Data Analytics\, UX Design\, Project Management\, and more. \nYou’ll hear how the Charleston Learning Center is supporting local learners with resources\, guidance\, and access to scholarships through this workforce development initiative. Whether you’re just starting out or looking to advance your career\, this is a great opportunity to get your questions answered\, see what’s involved\, and connect with others in the community. \nLunch will be provided. \nAll are welcome –- no tech experience required!
URL:https://whosonthemove.com/event/google-career-certificate-open-house/
LOCATION:Charleston Digital Corridor\, 4 Conroy St. STE A\, Charleston\, SC\, 29403
CATEGORIES:Charleston, SC
ATTACH;FMTTYPE=image/png:https://whosonthemove.com/wp-content/uploads/2025/06/Screenshot-2025-06-24-at-11.47.28 AM.png
END:VEVENT
END:VCALENDAR