BEGIN:VCALENDAR
VERSION:2.0
PRODID:-//Who&#039;s On The Move - ECPv6.15.15//NONSGML v1.0//EN
CALSCALE:GREGORIAN
METHOD:PUBLISH
X-ORIGINAL-URL:https://whosonthemove.com
X-WR-CALDESC:Events for Who&#039;s On The Move
REFRESH-INTERVAL;VALUE=DURATION:PT1H
X-Robots-Tag:noindex
X-PUBLISHED-TTL:PT1H
BEGIN:VTIMEZONE
TZID:America/New_York
BEGIN:DAYLIGHT
TZOFFSETFROM:-0500
TZOFFSETTO:-0400
TZNAME:EDT
DTSTART:20250309T070000
END:DAYLIGHT
BEGIN:STANDARD
TZOFFSETFROM:-0400
TZOFFSETTO:-0500
TZNAME:EST
DTSTART:20251102T060000
END:STANDARD
BEGIN:DAYLIGHT
TZOFFSETFROM:-0500
TZOFFSETTO:-0400
TZNAME:EDT
DTSTART:20260308T070000
END:DAYLIGHT
BEGIN:STANDARD
TZOFFSETFROM:-0400
TZOFFSETTO:-0500
TZNAME:EST
DTSTART:20261101T060000
END:STANDARD
BEGIN:DAYLIGHT
TZOFFSETFROM:-0500
TZOFFSETTO:-0400
TZNAME:EDT
DTSTART:20270314T070000
END:DAYLIGHT
BEGIN:STANDARD
TZOFFSETFROM:-0400
TZOFFSETTO:-0500
TZNAME:EST
DTSTART:20271107T060000
END:STANDARD
END:VTIMEZONE
BEGIN:VEVENT
DTSTART;TZID=America/New_York:20260120T180000
DTEND;TZID=America/New_York:20260120T200000
DTSTAMP:20260424T085136
CREATED:20251125T180910Z
LAST-MODIFIED:20251125T180910Z
UID:469882-1768932000-1768939200@whosonthemove.com
SUMMARY:The Rising Tide: Literacy in the Lowcountry Documentary Premiere Screening and Panel
DESCRIPTION:Join us for the premiere of The Rising Tide: Literacy in the Lowcountry\, a powerful documentary that lifts the voices of teachers\, administrators\, and families leading a grassroots movement to transform literacy across Charleston. \nThe film captures the heart of this work through the stories of two families whose lives are forever changed by access to the Orton-Gillingham approach—an approach unlocking reading for children who have long been left behind. Their journeys are woven together with the perspectives of educators and community leaders who are rising up to ensure every child has the fundamental right to read. \nFollowing the screening\, a panel of educators\, parents\, and literacy advocates will discuss the current state of literacy in South Carolina and highlight how the Lowcountry Literacy Project is changing student outcomes across the region. \nMore than a film\, The Rising Tide is a call to action. It is a portrait of what’s possible when a community comes together\, determined to close the literacy gap and build a brighter future for all children in the Lowcountry. \nDoors open at 5 p.m. \nScreening and Program begins at 6 p.m \nDress: Casual
URL:https://whosonthemove.com/event/the-rising-tide-literacy-in-the-lowcountry-documentary-premiere-screening-and-panel/
LOCATION:Charleston Music Hall\, 37 John St\, Charleston\, SC\, 29403
CATEGORIES:Charleston, SC
ATTACH;FMTTYPE=image/png:https://whosonthemove.com/wp-content/uploads/2025/11/Save-The-Date-2.png
END:VEVENT
BEGIN:VEVENT
DTSTART;TZID=America/New_York:20260123T100000
DTEND;TZID=America/New_York:20260125T170000
DTSTAMP:20260424T085136
CREATED:20260108T170713Z
LAST-MODIFIED:20260108T170713Z
UID:473429-1769162400-1769360400@whosonthemove.com
SUMMARY:Charleston Boat Show
DESCRIPTION:More than 200 watercraft will be on display at the Charleston Boat Show from Jan. 23-25 at the Charleston Area Convention Center Complex. The annual event is a one-stop shop for all things boating and features new model leisure watercraft and marine gear\, show-only deals\, live music\, and food trucks. \nThis year will showcase upwards of 100 different boat brands and more than 130 exhibitors. Event hours are 10 a.m.- 6 p.m. on Friday and Saturday\, Jan. 23-24\, and 11 a.m.- 5 p.m. on Sunday\, Jan. 25. Free parking is available on site. Tickets are $15 for adults at the door and $7 for children ages 4 to 12. A two-day pass is available for $20. \nFor details and to purchase discount tickets in advance\, visit www.TheCharlestonBoatShow.com.
URL:https://whosonthemove.com/event/charleston-boat-show-2/
LOCATION:Charleston Area Convention Center\, 5055 International Blvd\, North Charleston\, SC\, United States
CATEGORIES:Charleston, SC
ATTACH;FMTTYPE=image/jpeg:https://whosonthemove.com/wp-content/uploads/2026/01/CharlestonBSColorLOGO-REV103113-1.jpg
END:VEVENT
END:VCALENDAR