BEGIN:VCALENDAR
VERSION:2.0
PRODID:-//Who&#039;s On The Move - ECPv6.15.15//NONSGML v1.0//EN
CALSCALE:GREGORIAN
METHOD:PUBLISH
X-WR-CALNAME:Who&#039;s On The Move
X-ORIGINAL-URL:https://whosonthemove.com
X-WR-CALDESC:Events for Who&#039;s On The Move
REFRESH-INTERVAL;VALUE=DURATION:PT1H
X-Robots-Tag:noindex
X-PUBLISHED-TTL:PT1H
BEGIN:VTIMEZONE
TZID:America/New_York
BEGIN:DAYLIGHT
TZOFFSETFROM:-0500
TZOFFSETTO:-0400
TZNAME:EDT
DTSTART:20240310T070000
END:DAYLIGHT
BEGIN:STANDARD
TZOFFSETFROM:-0400
TZOFFSETTO:-0500
TZNAME:EST
DTSTART:20241103T060000
END:STANDARD
BEGIN:DAYLIGHT
TZOFFSETFROM:-0500
TZOFFSETTO:-0400
TZNAME:EDT
DTSTART:20250309T070000
END:DAYLIGHT
BEGIN:STANDARD
TZOFFSETFROM:-0400
TZOFFSETTO:-0500
TZNAME:EST
DTSTART:20251102T060000
END:STANDARD
BEGIN:DAYLIGHT
TZOFFSETFROM:-0500
TZOFFSETTO:-0400
TZNAME:EDT
DTSTART:20260308T070000
END:DAYLIGHT
BEGIN:STANDARD
TZOFFSETFROM:-0400
TZOFFSETTO:-0500
TZNAME:EST
DTSTART:20261101T060000
END:STANDARD
END:VTIMEZONE
BEGIN:VEVENT
DTSTART;TZID=America/New_York:20250730T173000
DTEND;TZID=America/New_York:20250730T190000
DTSTAMP:20260424T152159
CREATED:20250729T142828Z
LAST-MODIFIED:20250729T142828Z
UID:457066-1753896600-1753902000@whosonthemove.com
SUMMARY:Swamp Rabbit Trail Orange Line Public Meeting
DESCRIPTION:Hear more about the City of Greenville’s options for a Swamp Rabbit Trail connection from Worley Road (near Other Lands) to the Church Street/Wade Hampton Boulevard intersection (near Harris Teeter). Preliminary routing options have been identified and will be available for review. \nThe drop-in style meeting will give residents and stakeholders the opportunity to see the potential routes and provide feedback about their preferences.
URL:https://whosonthemove.com/event/swamp-rabbit-trail-orange-line-public-meeting/
LOCATION:GTA Operations & Maintenance Facility\, 205 Acardia Drive\, Greenville\, SC\, 29609
CATEGORIES:Greenville, SC
ATTACH;FMTTYPE=image/gif:https://whosonthemove.com/wp-content/uploads/2020/03/city_of_greenville.gif
END:VEVENT
END:VCALENDAR