BEGIN:VCALENDAR
VERSION:2.0
PRODID:-//Who&#039;s On The Move - ECPv6.15.15//NONSGML v1.0//EN
CALSCALE:GREGORIAN
METHOD:PUBLISH
X-WR-CALNAME:Who&#039;s On The Move
X-ORIGINAL-URL:https://whosonthemove.com
X-WR-CALDESC:Events for Who&#039;s On The Move
REFRESH-INTERVAL;VALUE=DURATION:PT1H
X-Robots-Tag:noindex
X-PUBLISHED-TTL:PT1H
BEGIN:VTIMEZONE
TZID:America/New_York
BEGIN:DAYLIGHT
TZOFFSETFROM:-0500
TZOFFSETTO:-0400
TZNAME:EDT
DTSTART:20240310T070000
END:DAYLIGHT
BEGIN:STANDARD
TZOFFSETFROM:-0400
TZOFFSETTO:-0500
TZNAME:EST
DTSTART:20241103T060000
END:STANDARD
BEGIN:DAYLIGHT
TZOFFSETFROM:-0500
TZOFFSETTO:-0400
TZNAME:EDT
DTSTART:20250309T070000
END:DAYLIGHT
BEGIN:STANDARD
TZOFFSETFROM:-0400
TZOFFSETTO:-0500
TZNAME:EST
DTSTART:20251102T060000
END:STANDARD
BEGIN:DAYLIGHT
TZOFFSETFROM:-0500
TZOFFSETTO:-0400
TZNAME:EDT
DTSTART:20260308T070000
END:DAYLIGHT
BEGIN:STANDARD
TZOFFSETFROM:-0400
TZOFFSETTO:-0500
TZNAME:EST
DTSTART:20261101T060000
END:STANDARD
END:VTIMEZONE
BEGIN:VEVENT
DTSTART;TZID=America/New_York:20250802T100000
DTEND;TZID=America/New_York:20250802T120000
DTSTAMP:20260424T120819
CREATED:20250728T221451Z
LAST-MODIFIED:20250728T221556Z
UID:456994-1754128800-1754136000@whosonthemove.com
SUMMARY:Paint & Sip at The Common
DESCRIPTION:Vino & Van Gogh will host a guided paint & sip class at The Commons\, led by local artist Adelle Pruitt. Attendees will create a vibrant summer bouquet painting\, with step-by-step instruction and plenty of opportunity for individual creativity. No prior experience is required. Guests are encouraged to arrive early to enjoy coffee\, pastries\, or brunch from The Commons’ diverse selection of food and beverage tenants. Following the class\, attendees are welcome to explore the expanded offerings on campus or take a stroll along the adjacent Swamp Rabbit Trail. \nTickets are available for purchase at www.vinoandvangogh.net.
URL:https://whosonthemove.com/event/paint-sip-at-the-common/
LOCATION:The Commons\, 147 Welborn St.\, Greenville\, SC\, 29601
CATEGORIES:Greenville, SC
ATTACH;FMTTYPE=image/jpeg:https://whosonthemove.com/wp-content/uploads/2025/07/image001-3.jpg
END:VEVENT
BEGIN:VEVENT
DTSTART;TZID=America/New_York:20250805T173000
DTEND;TZID=America/New_York:20250805T220000
DTSTAMP:20260424T120819
CREATED:20250728T150337Z
LAST-MODIFIED:20250728T150337Z
UID:456915-1754415000-1754431200@whosonthemove.com
SUMMARY:10th Annual Advanced Manufacturing & Engineering Night
DESCRIPTION:The Greenville Drive\, BMW Manufacturing\, Michelin North America\, Inc.\, Fluor Corporation\, Greenville Technical College (GTC)\, and Greenville County Schools will host the 10th annual Advanced Manufacturing & Engineering (AM&E) Night at Fluor Field on Tuesday\, August 5. \nThe most unique and inspiring event hosted at Fluor Field every year\, AM&E Night showcases the amazing manufacturing and engineering activity taking place in the region. Each year\, AM&E Night welcomes\, on a complimentary basis\, thousands of K-12 students to the ballpark as the event is utilized to showcase the many career opportunities in Advanced Manufacturing & Engineering\, and “ignite the passion” with young people and their families to ensure the region’s largest and most innovative employers have the workforce they need for future growth and success. \nThis year’s event will include a specific focus on Artificial Intelligence and its impact on companies in our region. The night will feature the practical application of AI and show how Artificial Intelligence is transforming business and manufacturing processes. \nInteractive and Engaging Concourse Exhibits \nAM&E Night will be filled with impactful and educational content relevant for all students & parents\, including highly interactive exhibits on the stadium concourse featuring prominent companies throughout the Upstate showcasing their latest and greatest manufacturing and engineering technologies including machine learning\, automation\, artificial intelligence\, mechatronics\, 3D printing & scanning\, and more. Confirmed exhibitors for this year include: \n\nBMW Manufacturing\, Michelin North America\, Greenville Technical College\, GE Vernova\, Greenville County Schools\, Milliken\, Fluor Corporation\, Bosch\, Bosch Rexroth\, Ryobi\, Dodge Industrial\, SC Department of Employment & Workforce\, Koops\, and more\n\nIn addition\, for the first time\, Accenture will participate in this year’s AM&E Night event with an incredible concourse exhibit showcasing “Reality Capture 3D Asset Teleportation”. This highly unique exhibit feature will provide attendees with Apple Vision Pro devices to visualize manufacturing and engineering processes in an external reality setting. \nBusiness Leader Panel Discussion \nAM&E Night will also feature a highly relevant panel discussion designed for students and their families. This year’s discussion will focus on Artificial Intelligence and AM&E-related career advice\, and include the following leaders as panelists: \n\nDr. Ulrich “Uli” Wieland\, Vice President–Production Control\, Logistics\, and Material Control\, BMW Manufacturing\nJames Olender\, Chief Information Officer—Wind\, GE Vernova\nLarry Miller\, President\, Greenville Technical College\nDimple Desai\, Advanced Manufacturing Operations\, Fluor Corporation\n\nThe panel will be expertly moderated by Alex Estevez\, Venture Partner with Accel Partners. New employees\, apprentices and interns will also be available to answer questions from students and families. \nStudents will have the opportunity to join the “Young Innovators Club” – an incentive to visit all the exhibits on the stadium concourse to have a chance to win great prizes and experiences. \nAll K-12 students can attend AM&E Night on a fully complimentary basis. Tickets for adults start at just $9. \nBallpark gates and the stadium concourse open at 5:30pm. The panel discussion in the 500 Club begins at 6:00pm. And first pitch of the Drive game against the Rome Braves is scheduled for 6:45pm. \n  \nTo read more information on AM&E Night and to secure your tickets today\, including complimentary student tickets\, visit www.greenvilledrive.com/ame.
URL:https://whosonthemove.com/event/10th-annual-advanced-manufacturing-engineering-night/
LOCATION:Fluor Field\, Greenville\, SC\, 29601\, United States
CATEGORIES:Greenville, SC
ATTACH;FMTTYPE=image/png:https://whosonthemove.com/wp-content/uploads/2025/07/Screenshot-2025-07-28-at-10.58.50 AM.png
END:VEVENT
BEGIN:VEVENT
DTSTART;TZID=America/New_York:20250812T120000
DTEND;TZID=America/New_York:20250812T130000
DTSTAMP:20260424T120819
CREATED:20250724T161301Z
LAST-MODIFIED:20250724T161301Z
UID:456163-1755000000-1755003600@whosonthemove.com
SUMMARY:FREE WORKSHOP: “The Prevention Plan: Vital Planning for Healthy Older Adults”
DESCRIPTION:Secure your future and stay in control of life’s “what-ifs.” Take proactive steps to safeguard your assets\, outline your healthcare wishes\, and ensure peace of mind for yourselves and your loved ones through clear\, actionable strategies. Lunch included if attending in person. \nRegister at https://lawyerlisa.com/events
URL:https://whosonthemove.com/event/free-workshop-the-prevention-plan-vital-planning-for-healthy-older-adults/
LOCATION:Mackey Funerals and Cremations at Woodlawn Memorial Park\, 1 Pine Knoll Dr\, Greenville\, SC\, 29609
CATEGORIES:Greenville, SC
ATTACH;FMTTYPE=image/png:https://whosonthemove.com/wp-content/uploads/2025/07/08-12-25-FF-Prevention-Plan-Greenville-Biz.png
END:VEVENT
BEGIN:VEVENT
DTSTART;TZID=America/New_York:20250820T160000
DTEND;TZID=America/New_York:20250824T194900
DTSTAMP:20260424T120819
CREATED:20250724T160943Z
LAST-MODIFIED:20250724T160943Z
UID:456602-1755705600-1756064940@whosonthemove.com
SUMMARY:Greenville Jewish Film Festival's SummerFest 2025
DESCRIPTION:The Greenville Jewish Film Festival will be showing The South Carolina premiere of Welcome to Yiddishland\, the acclaimed documentary exploring the global revival of Yiddish culture as well as a first-of-its-kind streaming presentation of The Muses of Bashevis Singer at this year’s SummerFest. \nTickets can be purchased at greenvillejewishfilmfestival.com. \nIn addition\, SummerFest 2025 will feature an unforgettable evening at the Sigal Music Museum\, featuring live music by Zoe & Cloyd followed by a screening of the short documentary Days Between Rest. Tickets for that event can be purchased here. (https://shorturl.at/OJqP5) \nSince 2018\, the Greenville Jewish Film Festival has aimed to inspire the community to find more connections through the art of film. The main event each year is SummerFest\, and this will be the first time the event will run for multiple days. \nThe Festival kicks off Wednesday\, August 20 at 7 p.m. at the Sigal Music Museum\, 516 Buncombe Street\, Greenville\, with a celebration of Yiddish culture. The evening features:\n• Live performance by acclaimed duo Zoe & Cloyd\, blending bluegrass\, klezmer\, old-time\, and folk — renowned for their “soaring harmonies and heartfelt songwriting”\n• A reception with mocktails and cultural desserts created by Project Host.\n• The short film Days Between Rest: a portrait of Rachel Namudosi\, a third-generation Jewish Ugandan singer\, exploring family\, music\, faith\, and the Abayudaya community.\n• Trailers for Welcome to Yiddishland and The Muses of Bashevis Singer. \nThis musical evening is sponsored by John and Susan Stewart. \nThe main event takes place Sunday\, August 24 at 4 p.m.\, at Camelot Cinemas\, 48 E. Antrim Drive\, featuring a screening of Welcome to Yiddishland\, sponsored by Thomas and Sandra Kester. Directed by Ros Horin\, the documentary offers “an upbeat\, witty and timely exploration” of a global community of artists breathing life into Yiddish — what it calls a “heartland without borders.” Tickets can be purchased at www.greenvillejewishfilmfestival.com. \nThe Festival’s grand finale film is The Muses of Bashevis Singer\, available to stream from August 25 through September 1. This documentary delves into the life of Nobel-winner Isaac Bashevis Singer\, focusing on the critical contributions of the female translators who shaped and inspired his work through personal interviews and rare archival footage. It reveals a previously untold chapter of his literary legacy. Streaming can be purchased at www.greenvillejewishfilmfestival.com.
URL:https://whosonthemove.com/event/greenville-jewish-film-festivals-summerfest-2025/
LOCATION:Camelot Cinemas\, 48 E Antrim Dr\, Greenville\, SC\, 29607
CATEGORIES:Greenville, SC
ATTACH;FMTTYPE=image/jpeg:https://whosonthemove.com/wp-content/uploads/2025/07/logo.jpg
END:VEVENT
END:VCALENDAR