BEGIN:VCALENDAR
VERSION:2.0
PRODID:-//Who&#039;s On The Move - ECPv6.15.15//NONSGML v1.0//EN
CALSCALE:GREGORIAN
METHOD:PUBLISH
X-WR-CALNAME:Who&#039;s On The Move
X-ORIGINAL-URL:https://whosonthemove.com
X-WR-CALDESC:Events for Who&#039;s On The Move
REFRESH-INTERVAL;VALUE=DURATION:PT1H
X-Robots-Tag:noindex
X-PUBLISHED-TTL:PT1H
BEGIN:VTIMEZONE
TZID:America/New_York
BEGIN:DAYLIGHT
TZOFFSETFROM:-0500
TZOFFSETTO:-0400
TZNAME:EDT
DTSTART:20240310T070000
END:DAYLIGHT
BEGIN:STANDARD
TZOFFSETFROM:-0400
TZOFFSETTO:-0500
TZNAME:EST
DTSTART:20241103T060000
END:STANDARD
BEGIN:DAYLIGHT
TZOFFSETFROM:-0500
TZOFFSETTO:-0400
TZNAME:EDT
DTSTART:20250309T070000
END:DAYLIGHT
BEGIN:STANDARD
TZOFFSETFROM:-0400
TZOFFSETTO:-0500
TZNAME:EST
DTSTART:20251102T060000
END:STANDARD
BEGIN:DAYLIGHT
TZOFFSETFROM:-0500
TZOFFSETTO:-0400
TZNAME:EDT
DTSTART:20260308T070000
END:DAYLIGHT
BEGIN:STANDARD
TZOFFSETFROM:-0400
TZOFFSETTO:-0500
TZNAME:EST
DTSTART:20261101T060000
END:STANDARD
END:VTIMEZONE
BEGIN:VEVENT
DTSTART;TZID=America/New_York:20250905T090000
DTEND;TZID=America/New_York:20251025T150000
DTSTAMP:20260424T103316
CREATED:20250929T185906Z
LAST-MODIFIED:20250929T185906Z
UID:461946-1757062800-1761404400@whosonthemove.com
SUMMARY:ArtFields Jr. Traveling Exhibition
DESCRIPTION:GCCA is proud to host the ArtFields Jr. Traveling Exhibition\, showcasing award-winning and regional student artworks (Grades 1–12) from across South Carolina. \nJoin us for the GCCA Closing Celebration on October 25\, 1–3 PM\, featuring regional awards\, art activities for kids\, door prizes\, and refreshments. Come celebrate the creativity of the next generation of artists from across South Carolina!
URL:https://whosonthemove.com/event/artfields-jr-traveling-exhibition/
LOCATION:Greenville Center for Creative Arts\, 101 Abney St\, Greenville\, SC\, 29609
CATEGORIES:Greenville, SC
ATTACH;FMTTYPE=image/jpeg:https://whosonthemove.com/wp-content/uploads/2025/09/gibbes_taylor-18602-0-1.jpg
END:VEVENT
BEGIN:VEVENT
DTSTART;TZID=America/New_York:20250918T160000
DTEND;TZID=America/New_York:20250918T180000
DTSTAMP:20260424T103316
CREATED:20250826T144832Z
LAST-MODIFIED:20250826T144832Z
UID:459106-1758211200-1758218400@whosonthemove.com
SUMMARY:Nature at Work Upstate Launch & Learn
DESCRIPTION:Join us for the Upstate Launch of Nature at Work\, hosted by Furman University’s Shi Institute for Sustainable Communities—one of our Founding Members and a leader in place-based sustainability and wellbeing. Set on Furman’s scenic lakeside campus\, this gathering will feature quick “lightning round” highlights from Founding Members sharing how their organizations are embracing nature-based strategies to support health\, sustainability\, and community connection. \nEnjoy light refreshments\, connect with fellow leaders\, and learn how to get involved in this growing statewide initiative. \nDate: Thursday\, September 18\nTime: 4:00–6:00 PM\nLocation: Shi Institute for Sustainable Communities\, Furman University\, Greenville\, SC \nRegister: https://www.eventbrite.com/e/nature-at-work-upstate-launch-learn-tickets-1592485349549?aff=oddtdtcreator
URL:https://whosonthemove.com/event/nature-at-work-upstate-launch-learn/
LOCATION:The Shi Institute for Sustainable Communities at Furman University\, 3300 Poinsett Hwy\, Greenville\, SC\, 29613
CATEGORIES:Greenville, SC
ATTACH;FMTTYPE=image/jpeg:https://whosonthemove.com/wp-content/uploads/2025/08/Upstate.jpeg
END:VEVENT
BEGIN:VEVENT
DTSTART;TZID=America/New_York:20250924T110000
DTEND;TZID=America/New_York:20250924T170000
DTSTAMP:20260424T103316
CREATED:20250913T150925Z
LAST-MODIFIED:20250913T150925Z
UID:460339-1758711600-1758733200@whosonthemove.com
SUMMARY:Honor Health Career Programs presents the 3rd Annual Eagles for Education Charity Golf Event at The Preserve
DESCRIPTION:The 3rd Annual Eagles for Education Charity Golf Event is taking place at The Preserve at Verdae on Wednesday\, September 24th 2025. The event supports the non-profit Honor Health Career Programs\, who supports nurses in their career in our local community. \nWhen: Wednesday\, September 24th 2025 – 11:00 a.m. Shotgun Start.\nWhere: The Preserve at Verdae – 607 Verdae Boulevard\, Greenville\, South Carolina 29607.\nFood & Beverages: Enjoy a light breakfast\, boxed lunch\, snacks\, and drinks throughout the day—plus appetizers at the awards ceremony. \nAwards Ceremony: Join us after the tournament as we celebrate our winners!\nTo register visit https: https://secure.qgiv.com/for/hhcpseaglesforeducationgolftournament/event/2aefegtc/?fbclid=PAZXh0bgNhZW0CMTEAAaeJUXzyeMFK1fyo3aORPzFdBDNYtqjsmCjYJ9CnUX-Ddd9RtySk7fb2n4_Y8Q_aem_Yz5uwjbNaDFKRpn9Usrg0Q
URL:https://whosonthemove.com/event/honor-health-career-programs-presents-the-3rd-annual-eagles-for-education-charity-golf-event-at-the-preserve/
LOCATION:The Preserve at Verdae Golf Club\, 650 Verdae Blvd.\, Greenville\, SC\, 29607
CATEGORIES:Greenville, SC
ATTACH;FMTTYPE=image/jpeg:https://whosonthemove.com/wp-content/uploads/2025/09/HCCP-Profile-Picture.jpg
END:VEVENT
BEGIN:VEVENT
DTSTART;TZID=America/New_York:20250925T120000
DTEND;TZID=America/New_York:20250925T140000
DTSTAMP:20260424T103316
CREATED:20250826T141353Z
LAST-MODIFIED:20250826T141353Z
UID:459098-1758801600-1758808800@whosonthemove.com
SUMMARY:SC Healthy Business Challenge Fall Seminar Luncheon
DESCRIPTION:Fall Seminar Series Explores GLP-1s and Workforce Health The South Carolina Healthy Business Challenge is hosting a statewide Fall Seminar Series focused on the evolving impact of GLP-1 medications on workforce health\, chronic disease prevention\, and employer strategy. Each regional luncheon will feature a cross-sector panel of experts from medicine\, behavioral health\, policy\, and business—offering practical insights and opportunities for engagement. \nEvent Dates & Locations: \n• Thursday\, Sept. 25 – Upstate at Thornblade Club\, Greer \nPresented with support from:\nNovo Nordisk\, Seminar Series Sponsor BlueCross BlueShield of South Carolina\, SCHBC Presenting Sponsor AssuredPartners\, ProactiveMD\, & SC Federal Credit Union\, SCHBC Regional Sponsors \nFor more information and to register\, visit: https://www.eventbrite.com/cc/sc-healthy-business-challenge-fall-seminar-series-4479733 \nThis event will also take place in other regions of the state. \n• Wednesday\, Sept. 24 – Lowcountry at Harbour Club\, Charleston \n• Tuesday\, Sept. 30 – Midlands at Palmetto Club\, Columbia \n 
URL:https://whosonthemove.com/event/sc-healthy-business-challenge-fall-seminar-luncheon-3/
LOCATION:Thornblade Club\, 1275 Thornblade Blvd\, Greer\, SC\, 29650
CATEGORIES:Greenville, SC
ATTACH;FMTTYPE=image/jpeg:https://whosonthemove.com/wp-content/uploads/2025/08/https___cdn.evbuc_.com_images_1077175543_10662139161_1_original.jpeg
END:VEVENT
END:VCALENDAR