BEGIN:VCALENDAR
VERSION:2.0
PRODID:-//Who&#039;s On The Move - ECPv6.15.15//NONSGML v1.0//EN
CALSCALE:GREGORIAN
METHOD:PUBLISH
X-ORIGINAL-URL:https://whosonthemove.com
X-WR-CALDESC:Events for Who&#039;s On The Move
REFRESH-INTERVAL;VALUE=DURATION:PT1H
X-Robots-Tag:noindex
X-PUBLISHED-TTL:PT1H
BEGIN:VTIMEZONE
TZID:America/New_York
BEGIN:DAYLIGHT
TZOFFSETFROM:-0500
TZOFFSETTO:-0400
TZNAME:EDT
DTSTART:20250309T070000
END:DAYLIGHT
BEGIN:STANDARD
TZOFFSETFROM:-0400
TZOFFSETTO:-0500
TZNAME:EST
DTSTART:20251102T060000
END:STANDARD
BEGIN:DAYLIGHT
TZOFFSETFROM:-0500
TZOFFSETTO:-0400
TZNAME:EDT
DTSTART:20260308T070000
END:DAYLIGHT
BEGIN:STANDARD
TZOFFSETFROM:-0400
TZOFFSETTO:-0500
TZNAME:EST
DTSTART:20261101T060000
END:STANDARD
BEGIN:DAYLIGHT
TZOFFSETFROM:-0500
TZOFFSETTO:-0400
TZNAME:EDT
DTSTART:20270314T070000
END:DAYLIGHT
BEGIN:STANDARD
TZOFFSETFROM:-0400
TZOFFSETTO:-0500
TZNAME:EST
DTSTART:20271107T060000
END:STANDARD
END:VTIMEZONE
BEGIN:VEVENT
DTSTART;TZID=America/New_York:20260120T113000
DTEND;TZID=America/New_York:20260120T130000
DTSTAMP:20260424T020817
CREATED:20251211T200223Z
LAST-MODIFIED:20251211T201042Z
UID:471442-1768908600-1768914000@whosonthemove.com
SUMMARY:Disability Service Provider Expo
DESCRIPTION:The Barbara Stone Foundation\, a non-profit organization focused on supporting\, and creating\, visionary and creative programs for individuals with disabilities\, is hosting the second annual Disability Service Provider Expo on January 20\, 2026 at Bon Secours Wellness Arena from 11:30 a.m – 1:00 p.m. The Disability Service Provider Expo is a program of Greenville CAN\, a signature initiative of the Barbara Stone Foundation\, and is designed to connect forward-thinking employers with the tools\, resources\, and partners needed to hire and support employees with disabilities. \nThe Disability Service Provider Expo will showcase service providers who regularly work with individuals with disabilities and are focused on finding suitable employment opportunities through pre-screening applicants to best meet the employer’s needs by expanding their talent pool. \nThe event is free\, and companies\, businesses and organizations interested in hiring individuals with disabilities should register to attend the Disability Service Provider Expo before the January 13\, 2026 deadline. \nRegistration link is https://forms.gle/M81mZhRzRjb55sGu7. Lunch will be provided. \nFor more information or questions\, contact Melissa Sanders at melissa@barbarastonefoundation.org.
URL:https://whosonthemove.com/event/disability-service-provider-expo/
LOCATION:Bon Secours Wellness Arena\, 650 N Academy Street\, Greenville\, SC\, 29601\, United States
CATEGORIES:Greenville, SC
ATTACH;FMTTYPE=image/png:https://whosonthemove.com/wp-content/uploads/2025/12/Expo.png
END:VEVENT
BEGIN:VEVENT
DTSTART;TZID=America/New_York:20260124T110000
DTEND;TZID=America/New_York:20260124T150000
DTSTAMP:20260424T020817
CREATED:20260121T151836Z
LAST-MODIFIED:20260121T151836Z
UID:474799-1769252400-1769266800@whosonthemove.com
SUMMARY:GCCA 2026 Open House
DESCRIPTION:Join us for a GCCA Open House where you can learn about all our 2026 happenings\, sign up for classes\, learn how you can engage as an artist\, and receive discounts all day!
URL:https://whosonthemove.com/event/gcca-2026-open-house/
LOCATION:Greenville Center for the Creative Arts\, 25 Draper Street STE. A.\, Greenville\, SC\, 29611
CATEGORIES:Greenville, SC
ATTACH;FMTTYPE=image/jpeg:https://whosonthemove.com/wp-content/uploads/2026/01/Open-House.jpg
END:VEVENT
END:VCALENDAR