BEGIN:VCALENDAR
VERSION:2.0
PRODID:-//Who&#039;s On The Move - ECPv6.15.15//NONSGML v1.0//EN
CALSCALE:GREGORIAN
METHOD:PUBLISH
X-ORIGINAL-URL:https://whosonthemove.com
X-WR-CALDESC:Events for Who&#039;s On The Move
REFRESH-INTERVAL;VALUE=DURATION:PT1H
X-Robots-Tag:noindex
X-PUBLISHED-TTL:PT1H
BEGIN:VTIMEZONE
TZID:America/New_York
BEGIN:DAYLIGHT
TZOFFSETFROM:-0500
TZOFFSETTO:-0400
TZNAME:EDT
DTSTART:20250309T070000
END:DAYLIGHT
BEGIN:STANDARD
TZOFFSETFROM:-0400
TZOFFSETTO:-0500
TZNAME:EST
DTSTART:20251102T060000
END:STANDARD
BEGIN:DAYLIGHT
TZOFFSETFROM:-0500
TZOFFSETTO:-0400
TZNAME:EDT
DTSTART:20260308T070000
END:DAYLIGHT
BEGIN:STANDARD
TZOFFSETFROM:-0400
TZOFFSETTO:-0500
TZNAME:EST
DTSTART:20261101T060000
END:STANDARD
BEGIN:DAYLIGHT
TZOFFSETFROM:-0500
TZOFFSETTO:-0400
TZNAME:EDT
DTSTART:20270314T070000
END:DAYLIGHT
BEGIN:STANDARD
TZOFFSETFROM:-0400
TZOFFSETTO:-0500
TZNAME:EST
DTSTART:20271107T060000
END:STANDARD
END:VTIMEZONE
BEGIN:VEVENT
DTSTART;TZID=America/New_York:20261105T180000
DTEND;TZID=America/New_York:20261105T210000
DTSTAMP:20260424T032024
CREATED:20260121T155432Z
LAST-MODIFIED:20260121T155432Z
UID:474808-1793901600-1793912400@whosonthemove.com
SUMMARY:Color the Night 2026 - Lasting Impressions
DESCRIPTION:Color The Night is the Greenville Center for Creative Arts’ annual signature fundraiser supporting access to art for all. On November 5\, 2026\, experience Lasting Impressions—a dynamic\, immersive evening featuring live music\, art performances\, interactive art experiences\, curated food and drinks\, and a silent auction. \nJoin approximately 300 artists\, supporters\, and community members for a memorable celebration of creativity and impact at GCCA.
URL:https://whosonthemove.com/event/color-the-night-2026-lasting-impressions/
LOCATION:Greenville Center of Creative Arts\, 101 Abney Street\, Greenville\, SC\, 29611
CATEGORIES:Greenville, SC
ATTACH;FMTTYPE=image/jpeg:https://whosonthemove.com/wp-content/uploads/2026/01/Lasting-Impressions.jpg
END:VEVENT
END:VCALENDAR